Workbook

Sheet 升级利益说明表
O1: 请选择收益档次 | W1: 投保年龄 | X1: 男性 | AB1: 女性
O2: 红利档次 | P2: 中 | X2: 趸缴 | Y2: 三年交 | Z2: 五年交 | AA2: 十年交 | AB2: 趸缴 | AC2: 三年交 | AD2: 五年交 | AE2: 十年交
O3: 万能档次 | P3: 中 | T3: 利率 | U3: =IF(P3="低",2.5%,IF(P3="中",4.5%,IF(P3="高",6%))) -> 0.045 | V3: 高 | W3: 0 | X3: 17267 | Y3: 6240 | Z3: 3822 | AA3: 2010 | AB3: 17035 | AC3: 6155 | AD3: 3768 | AE3: 1981
V4: 中 | W4: 1 | X4: 17299 | Y4: 6247 | Z4: 3824 | AA4: 2010 | AB4: 17072 | AC4: 6163 | AD4: 3771 | AE4: 1981
V5: 低 | W5: 2 | X5: 17333 | Y5: 6256 | Z5: 3828 | AA5: 2012 | AB5: 17111 | AC5: 6174 | AD5: 3777 | AE5: 1983
A6: ● | B6: 投保资料 | W6: 3 | X6: 17292 | Y6: 6239 | Z6: 3817 | AA6: 2005 | AB6: 17048 | AC6: 6149 | AD6: 3761 | AE6: 1975
B7: 被保险人 | D7: 投保时年龄 | F7: 性别 | G7: 交费年期 | I7: 首期保费 | L7: 保险金额 | V7: 男 | W7: 4 | X7: 17334 | Y7: 6253 | Z7: 3825 | AA7: 2009 | AB7: 17096 | AC7: 6165 | AD7: 3770 | AE7: 1979
D8: 45 | E8: 岁 | F8: 男 | G8: 10 | H8: 年期 | I8: =鸿鑫查询!Y8 -> 1829.2 | L8: 8500 | V8: 女 | W8: 5 | X8: 17377 | Y8: 6267 | Z8: 3833 | AA8: 2013 | AB8: 17144 | AC8: 6182 | AD8: 3780 | AE8: 1984
V9: 3 | W9: 6 | X9: 17336 | Y9: 6252 | Z9: 3823 | AA9: 2008 | AB9: 17080 | AC9: 6158 | AD9: 3765 | AE9: 1976
A10: ● | B10: 升级前利益 | V10: 5 | W10: 7 | X10: 17384 | Y10: 6268 | Z10: 3833 | AA10: 2013 | AB10: 17134 | AC10: 6177 | AD10: 3777 | AE10: 1982
B11: 1、生存金： | D11: 每3年领取 | E11: =L8*9% -> 765 | F11: 元，领取至80岁，合计领取 | I11: =SUM(鸿鑫查询!G2:G81) -> 8415 | K11: 元。 | V11: 10 | W11: 8 | X11: 17431 | Y11: 6285 | Z11: 3843 | AA11: 2018 | AB11: 17187 | AC11: 6196 | AD11: 3788 | AE11: 1988
B12: 2、满期金： | D12: 被保险人满80周岁，一次性领取满期金 | H12: =L8*150% -> 12750 | J12: 元。 | W12: 9 | X12: 17389 | Y12: 6269 | Z12: 3834 | AA12: 2013 | AB12: 17120 | AC12: 6171 | AD12: 3773 | AE12: 1980
B13: 3、红利金： | D13: 每年享有保单红派，若累积生息至80岁，合计 | I13: =鸿鑫查询!Y24 -> 17143.488 | K13: 元。（假定中低等红利） | W13: 10 | X13: 17441 | Y13: 6288 | Z13: 3845 | AA13: 2020 | AB13: 17178 | AC13: 6192 | AD13: 3786 | AE13: 1987
B14: 4、保障金： | D14: 被保险人在保险期间内享受保额200%身故保障金。 | W14: 11 | X14: 17491 | Y14: 6306 | Z14: 3857 | AA14: 2026 | AB14: 17235 | AC14: 6213 | AD14: 3798 | AE14: 1994
W15: 12 | X15: 17447 | Y15: 6291 | Z15: 3847 | AA15: 2022 | AB15: 17164 | AC15: 6187 | AD15: 3783 | AE15: 1986
A16: ● | B16: 升级后 | W16: 13 | X16: 17503 | Y16: 6311 | Z16: 3860 | AA16: 2029 | AB16: 17226 | AC16: 6210 | AD16: 3797 | AE16: 1993
W17: 14 | X17: 17556 | Y17: 6331 | Z17: 3873 | AA17: 2036 | AB17: 17286 | AC17: 6232 | AD17: 3810 | AE17: 2000
W18: 15 | X18: 17508 | Y18: 6314 | Z18: 3863 | AA18: 2031 | AB18: 17211 | AC18: 6205 | AD18: 3794 | AE18: 1992
W19: 16 | X19: 17566 | Y19: 6336 | Z19: 3877 | AA19: 2038 | AB19: 17276 | AC19: 6229 | AD19: 3809 | AE19: 2000
W20: 17 | X20: 17622 | Y20: 6357 | Z20: 3889 | AA20: 2045 | AB20: 17340 | AC20: 6252 | AD20: 3823 | AE20: 2007
W21: 18 | X21: 17569 | Y21: 6338 | Z21: 3878 | AA21: 2039 | AB21: 17259 | AC21: 6223 | AD21: 3806 | AE21: 1998
W22: 19 | X22: 17630 | Y22: 6360 | Z22: 3892 | AA22: 2046 | AB22: 17328 | AC22: 6248 | AD22: 3821 | AE22: 2006
W23: 20 | X23: 17688 | Y23: 6381 | Z23: 3905 | AA23: 2053 | AB23: 17395 | AC23: 6272 | AD23: 3836 | AE23: 2014
A24: ● | B24: 升级后利益（满期时） | W24: 21 | X24: 17632 | Y24: 6361 | Z24: 3892 | AA24: 2046 | AB24: 17309 | AC24: 6241 | AD24: 3817 | AE24: 2004
W25: 22 | X25: 17696 | Y25: 6384 | Z25: 3906 | AA25: 2053 | AB25: 17382 | AC25: 6267 | AD25: 3833 | AE25: 2013
B26: 升级前 | C26: :(生存金累积 + 满期金 + 累积红利）合计： | H26: =鸿鑫查询!Y26 -> 44355.474 | J26: 元 | K26: 增涨 | L26: =(H27-H26)/H26 -> 0.1526919 | W26: 23 | X26: 17758 | Y26: 6406 | Z26: 3919 | AA26: 2060 | AB26: 17453 | AC26: 6293 | AD26: 3848 | AE26: 2021
B27: 升级后 | C27: :( 国寿金账户内价值 + 累积红利）合计： | H27: =鸿鑫查询!Y27 -> 51128.195 | J27: 元 | W27: 24 | X27: 17698 | Y27: 6384 | Z27: 3906 | AA27: 2053 | AB27: 17362 | AC27: 6260 | AD27: 3828 | AE27: 2010
W28: 25 | X28: 17766 | Y28: 6409 | Z28: 3921 | AA28: 2061 | AB28: 17439 | AC28: 6288 | AD28: 3846 | AE28: 2020
W29: 26 | X29: 17833 | Y29: 6433 | Z29: 3936 | AA29: 2069 | AB29: 17514 | AC29: 6315 | AD29: 3862 | AE29: 2028
W30: 27 | X30: 17769 | Y30: 6410 | Z30: 3922 | AA30: 2062 | AB30: 17417 | AC30: 6280 | AD30: 3841 | AE30: 2017
W31: 28 | X31: 17843 | Y31: 6436 | Z31: 3938 | AA31: 2071 | AB31: 17500 | AC31: 6310 | AD31: 3859 | AE31: 2027
W32: 29 | X32: 17913 | Y32: 6462 | Z32: 3954 | AA32: 2080 | AB32: 17579 | AC32: 6339 | AD32: 3877 | AE32: 2037
W33: 30 | X33: 17846 | Y33: 6438 | Z33: 3939 | AA33: 2072 | AB33: 17477 | AC33: 6302 | AD33: 3854 | AE33: 2025
W34: 31 | X34: 17924 | Y34: 6466 | Z34: 3957 | AA34: 2082 | AB34: 17564 | AC34: 6333 | AD34: 3874 | AE34: 2036
W35: 32 | X35: 17998 | Y35: 6494 | Z35: 3974 | AA35: 2092 | AB35: 17648 | AC35: 6364 | AD35: 3893 | AE35: 2046
W36: 33 | X36: 17926 | Y36: 6468 | Z36: 3959 | AA36: 2085 | AB36: 17538 | AC36: 6325 | AD36: 3869 | AE36: 2034
W37: 34 | X37: 18008 | Y37: 6498 | Z37: 3978 | AA37: 2095 | AB37: 17631 | AC37: 6359 | AD37: 3890 | AE37: 2045
W38: 35 | X38: 18087 | Y38: 6527 | Z38: 3996 | AA38: 2106 | AB38: 17720 | AC38: 6391 | AD38: 3910 | AE38: 2056
W39: 36 | X39: 18009 | Y39: 6500 | Z39: 3980 | AA39: 2098 | AB39: 17603 | AC39: 6349 | AD39: 3885 | AE39: 2044
... W53: 50 | X53: 18540 | Y53: 6719 | Z53: 4134 | AA53: 2212 | AB53: 18095 | AC53: 6544 | AD53: 4016 | AE53: 2134
...

Sheet 鸿鑫利益演示对比明细
A2: 保单年度 | C2: 年末年龄 | D2: 年初保费 | E2: 累计保费 | F2: 生金存 | H2: 满期给付 | I2: 现金价值 | J2: 红利金 | L2: 升级前合计 | M2: 升级后合计 | N2: 差额 | P2: 保单年度 | Q2: 年末年龄 | R2: 年初保费 | S2: 累计保费 | T2: 生金存 | V2: 满期给付 | W2: 现金价值 | X2: 红利金 | Z2: 升级前合计 | AA2: 升级后合计 | AB2: 增涨 额度
F3: 现金领取 | G3: 累积生息 | J3: 现金领取 | K3: 累积生息 | L3: 生存金+红利 | M3: 金账户+红利 | T3: 现金领取 | U3: 累积生息 | X3: 现金领取 | Y3: 累积生息 | Z3: 生存金+红利 | AA3: 金账户+红利
A4: =鸿鑫查询!C2 -> 46 | B4: =C4 -> 46 | C4: =鸿鑫查询!C2 -> 46 | D4: =鸿鑫查询!D2 -> 1829.2 | E4: =鸿鑫查询!E2 -> 1829.2 | F4: =鸿鑫查询!G2 -> 0 | G4: =鸿鑫查询!H2 -> 0 | H4: =鸿鑫查询!I2 -> 0 | I4: =鸿鑫查询!J2 -> 823.14 | J4: =鸿鑫查询!Q2 -> 25.1515 | K4: =鸿鑫查询!R2 -> 25.1515 | L4: =鸿鑫查询!S2 -> 25.1515 | M4: =鸿鑫查询!U2 -> 25.1515 | N4: =鸿鑫查询!V2 -> 0 | P4: =IF(B4>105,"",B4) -> 46 | Q4: =IF(B4>105,"",C4) -> 46 | R4: =IF(D4=0,"",D4) -> 1829.2 | S4: =IF(E4=0,"",E4) -> 1829.2 | T4: =IF(F4=0,"",F4) | U4: =IF(G4=0,"",G4) | V4: =IF(H4=0,"",H4) | W4: =IF(I4=0,"",I4) -> 823.14 | X4: =IF(J4=0,"",J4) -> 25.1515 | Y4: =IF(K4=0,"",K4) -> 25.1515 | ... AA4: =IF(M4=0,"",M4) -> 25.1515 | AB4: =N4 -> 0
A5: =鸿鑫查询!C3 -> 47 | B5: =B4+1 -> 47 | C5: =鸿鑫查询!C3 -> 47 | D5: =鸿鑫查询!D3 -> 1829.2 | E5: =鸿鑫查询!E3 -> 3658.4 | F5: =鸿鑫查询!G3 -> 0 | G5: =鸿鑫查询!H3 -> 0 | H5: =鸿鑫查询!I3 -> 0 | I5: =鸿鑫查询!J3 -> 2151.35 | J5: =鸿鑫查询!Q3 -> 58.633 | K5: =鸿鑫查询!R3 -> 84.5325 | L5: =鸿鑫查询!S3 -> 84.5325 | M5: =鸿鑫查询!U3 -> 84.5325 | N5: =鸿鑫查询!V3 -> 0 | P5: =IF(B5>105,"",B5) -> 47 | Q5: =IF(B5>105,"",C5) -> 47 | R5: =IF(D5=0,"",D5) -> 1829.2 | S5: =IF(E5=0,"",E5) -> 3658.4 | T5: =IF(F5=0,"",F5) | U5: =IF(G5=0,"",G5) | V5: =IF(H5=0,"",H5) | W5: =IF(I5=0,"",I5) -> 2151.35 | X5: =IF(J5=0,"",J5) -> 58.633 | Y5: =IF(K5=0,"",K5) -> 84.5325 | ... AA5: =IF(M5=0,"",M5) -> 84.5325 | AB5: =N5 -> 0
A6: =鸿鑫查询!C4 -> 48 | B6: =B5+1 -> 48 | C6: =鸿鑫查询!C4 -> 48 | D6: =鸿鑫查询!D4 -> 1829.2 | E6: =鸿鑫查询!E4 -> 5487.6 | F6: =鸿鑫查询!G4 -> 765 | G6: =鸿鑫查询!H4 -> 765 | H6: =鸿鑫查询!I4 -> 0 | I6: =鸿鑫查询!J4 -> 2759.1 | J6: =鸿鑫查询!Q4 -> 92.7775 | K6: =鸿鑫查询!R4 -> 179.8515 | L6: =鸿鑫查询!S4 -> 944.8515 | M6: =鸿鑫查询!U4 -> 979.99547 | N6: =鸿鑫查询!V4 -> 35.143966 | P6: =IF(B6>105,"",B6) -> 48 | Q6: =IF(B6>105,"",C6) -> 48 | R6: =IF(D6=0,"",D6) -> 1829.2 | S6: =IF(E6=0,"",E6) -> 5487.6 | T6: =IF(F6=0,"",F6) -> 765 | U6: =IF(G6=0,"",G6) -> 765 | V6: =IF(H6=0,"",H6) | W6: =IF(I6=0,"",I6) -> 2759.1 | X6: =IF(J6=0,"",J6) -> 92.7775 | Y6: =IF(K6=0,"",K6) -> 179.8515 | ... AB6: =IF(N6=0,"",N6) -> 35.143966
A7: =鸿鑫查询!C5 -> 49 | B7: =B6+1 -> 49 | C7: =鸿鑫查询!C5 -> 49 | D7: =鸿鑫查询!D5 -> 1829.2 | E7: =鸿鑫查询!E5 -> 7316.8 | F7: =鸿鑫查询!G5 -> 0 | G7: =鸿鑫查询!H5 -> 787.95 | H7: =鸿鑫查询!I5 -> 0 | I7: =鸿鑫查询!J5 -> 4425.1 | J7: =鸿鑫查询!Q5 -> 116.688 | K7: =鸿鑫查询!R5 -> 301.937 | L7: =鸿鑫查询!S5 -> 1089.887 | M7: =鸿鑫查询!U5 -> 1138.8394 | N7: =鸿鑫查询!V5 -> 48.95244 | P7: =IF(B7>105,"",B7) -> 49 | Q7: =IF(B7>105,"",C7) -> 49 | R7: =IF(D7=0,"",D7) -> 1829.2 | S7: =IF(E7=0,"",E7) -> 7316.8 | T7: =IF(F7=0,"",F7) | U7: =IF(G7=0,"",G7) -> 787.95 | V7: =IF(H7=0,"",H7) | W7: =IF(I7=0,"",I7) -> 4425.1 | X7: =IF(J7=0,"",J7) -> 116.688 | Y7: =IF(K7=0,"",K7) -> 301.937 | ... AB7: =IF(N7=0,"",N7) -> 48.95244
A8: =鸿鑫查询!C6 -> 50 | B8: =B7+1 -> 50 | C8: =鸿鑫查询!C6 -> 50 | D8: =鸿鑫查询!D6 -> 1829.2 | E8: =鸿鑫查询!E6 -> 9146 | F8: =鸿鑫查询!G6 -> 0 | G8: =鸿鑫查询!H6 -> 811.5885 | H8: =鸿鑫查询!I6 -> 0 | I8: =鸿鑫查询!J6 -> 6161.65 | J8: =鸿鑫查询!Q6 -> 160.208 | K8: =鸿鑫查询!R6 -> 471.206 | L8: =鸿鑫查询!S6 -> 1282.7945 | M8: =鸿鑫查询!U6 -> 1346.5556 | N8: =鸿鑫查询!V6 -> 63.761092 | P8: =IF(B8>105,"",B8) -> 50 | Q8: =IF(B8>105,"",C8) -> 50 | R8: =IF(D8=0,"",D8) -> 1829.2 | S8: =IF(E8=0,"",E8) -> 9146 | T8: =IF(F8=0,"",F8) | U8: =IF(G8=0,"",G8) -> 811.5885 | V8: =IF(H8=0,"",H8) | W8: =IF(I8=0,"",I8) -> 6161.65 | X8: =IF(J8=0,"",J8) -> 160.208 | Y8: =IF(K8=0,"",K8) -> 471.206 | ... AB8: =IF(N8=0,"",N8) -> 63.761092
A9: =鸿鑫查询!C7 -> 51 | B9: =B8+1 -> 51 | C9: =鸿鑫查询!C7 -> 51 | D9: =鸿鑫查询!D7 -> 1829.2 | E9: =鸿鑫查询!E7 -> 10975.2 | F9: =鸿鑫查询!G7 -> 765 | G9: =鸿鑫查询!H7 -> 1600.9325 | H9: =鸿鑫查询!I7 -> 0 | I9: =鸿鑫查询!J7 -> 7237.75 | J9: =鸿鑫查询!Q7 -> 204.663 | K9: =鸿鑫查询!R7 -> 690.0045 | L9: =鸿鑫查询!S7 -> 2290.937 | M9: =鸿鑫查询!U7 -> 2405.7115 | N9: =鸿鑫查询!V7 -> 114.77446 | P9: =IF(B9>105,"",B9) -> 51 | Q9: =IF(B9>105,"",C9) -> 51 | R9: =IF(D9=0,"",D9) -> 1829.2 | S9: =IF(E9=0,"",E9) -> 10975.2 | T9: =IF(F9=0,"",F9) -> 765 | U9: =IF(G9=0,"",G9) -> 1600.9325 | V9: =IF(H9=0,"",H9) | W9: =IF(I9=0,"",I9) -> 7237.75 | X9: =IF(J9=0,"",J9) -> 204.663 | Y9: =IF(K9=0,"",K9) -> 690.0045 | ... AB9: =IF(N9=0,"",N9) -> 114.77446
A10: =鸿鑫查询!C8 -> 52 | B10: =B9+1 -> 52 | C10: =鸿鑫查询!C8 -> 52 | D10: =鸿鑫查询!D8 -> 1829.2 | E10: =鸿鑫查询!E8 -> 12804.4 | F10: =鸿鑫查询!G8 -> 0 | G10: =鸿鑫查询!H8 -> 1648.966 | H10: =鸿鑫查询!I8 -> 0 | I10: =鸿鑫查询!J8 -> 9099.25 | J10: =鸿鑫查询!Q8 -> 231.013 | K10: =鸿鑫查询!R8 -> 941.7235 | L10: =鸿鑫查询!S8 -> 2590.6895 | M10: =鸿鑫查询!U8 -> 2736.2497 | N10: =鸿鑫查询!V8 -> 145.56024 | P10: =IF(B10>105,"",B10) -> 52 | Q10: =IF(B10>105,"",C10) -> 52 | R10: =IF(D10=0,"",D10) -> 1829.2 | S10: =IF(E10=0,"",E10) -> 12804.4 | T10: =IF(F10=0,"",F10) | U10: =IF(G10=0,"",G10) -> 1648.966 | V10: =IF(H10=0,"",H10) | W10: =IF(I10=0,"",I10) -> 9099.25 | X10: =IF(J10=0,"",J10) -> 231.013 | Y10: =IF(K10=0,"",K10) -> 941.7235 | ... AB10: =IF(N10=0,"",N10) -> 145.56024
A11: =鸿鑫查询!C9 -> 53 | B11: =B10+1 -> 53 | C11: =鸿鑫查询!C9 -> 53 | D11: =鸿鑫查询!D9 -> 1829.2 | E11: =鸿鑫查询!E9 -> 14633.6 | F11: =鸿鑫查询!G9 -> 0 | G11: =鸿鑫查询!H9 -> 1698.436 | H11: =鸿鑫查询!I9 -> 0 | I11: =鸿鑫查询!J9 -> 11040.65 | J11: =鸿鑫查询!Q9 -> 277.0405 | K11: =鸿鑫查询!R9 -> 1247.018 | L11: =鸿鑫查询!S9 -> 2945.454 | M11: =鸿鑫查询!U9 -> 3123.9845 | N11: =鸿鑫查询!V9 -> 178.53046 | P11: =IF(B11>105,"",B11) -> 53 | Q11: =IF(B11>105,"",C11) -> 53 | R11: =IF(D11=0,"",D11) -> 1829.2 | S11: =IF(E11=0,"",E11) -> 14633.6 | T11: =IF(F11=0,"",F11) | U11: =IF(G11=0,"",G11) -> 1698.436 | V11: =IF(H11=0,"",H11) | W11: =IF(I11=0,"",I11) -> 11040.65 | X11: =IF(J11=0,"",J11) -> 277.0405 | Y11: =IF(K11=0,"",K11) -> 1247.018 | ... AB11: =IF(N11=0,"",N11) -> 178.53046
A12: =鸿鑫查询!C10 -> 54 | B12: =B11+1 -> 54 | C12: =鸿鑫查询!C10 -> 54 | D12: =鸿鑫查询!D10 -> 1829.2 | E12: =鸿鑫查询!E10 -> 16462.8 | F12: =鸿鑫查询!G10 -> 765 | G12: =鸿鑫查询!H10 -> 2514.385 | H12: =鸿鑫查询!I10 -> 0 | I12: =鸿鑫查询!J10 -> 12309.7 | J12: =鸿鑫查询!Q10 -> 324.173 | K12: =鸿鑫查询!R10 -> 1608.608 | L12: =鸿鑫查询!S10 -> 4122.993 | M12: =鸿鑫查询!U10 -> 4371.9459 | N12: =鸿鑫查询!V10 -> 248.95294 | P12: =IF(B12>105,"",B12) -> 54 | Q12: =IF(B12>105,"",C12) -> 54 | R12: =IF(D12=0,"",D12) -> 1829.2 | S12: =IF(E12=0,"",E12) -> 16462.8 | T12: =IF(F12=0,"",F12) -> 765 | U12: =IF(G12=0,"",G12) -> 2514.385 | V12: =IF(H12=0,"",H12) | W12: =IF(I12=0,"",I12) -> 12309.7 | X12: =IF(J12=0,"",J12) -> 324.173 | Y12: =IF(K12=0,"",K12) -> 1608.608 | ... AB12: =IF(N12=0,"",N12) -> 248.95294
A13: =鸿鑫查询!C11 -> 55 | B13: =B12+1 -> 55 | C13: =鸿鑫查询!C11 -> 55 | D13: =鸿鑫查询!D11 -> 1829.2 | E13: =鸿鑫查询!E11 -> 18292 | F13: =鸿鑫查询!G11 -> 0 | G13: =鸿鑫查询!H11 -> 2589.814 | H13: =鸿鑫查询!I11 -> 0 | I13: =鸿鑫查询!J11 -> 14396.45 | J13: =鸿鑫查询!Q11 -> 353.3705 | K13: =鸿鑫查询!R11 -> 2010.2415 | L13: =鸿鑫查询!S11 -> 4600.0555 | M13: =鸿鑫查询!U11 -> 4900.5267 | N13: =鸿鑫查询!V11 -> 300.4712 | P13: =IF(B13>105,"",B13) -> 55 | Q13: =IF(B13>105,"",C13) -> 55 | R13: =IF(D13=0,"",D13) -> 1829.2 | S13: =IF(E13=0,"",E13) -> 18292 | T13: =IF(F13=0,"",F13) | U13: =IF(G13=0,"",G13) -> 2589.814 | V13: =IF(H13=0,"",H13) | W13: =IF(I13=0,"",I13) -> 14396.45 | X13: =IF(J13=0,"",J13) -> 353.3705 | Y13: =IF(K13=0,"",K13) -> 2010.2415 | ... AB13: =IF(N13=0,"",N13) -> 300.4712
A14: =鸿鑫查询!C12 -> 56 | B14: =B13+1 -> 56 | C14: =鸿鑫查询!C12 -> 56 | D14: =鸿鑫查询!D12 -> 0 | E14: =鸿鑫查询!E12 -> 18292 | F14: =鸿鑫查询!G12 -> 0 | G14: =鸿鑫查询!H12 -> 2667.5125 | H14: =鸿鑫查询!I12 -> 0 | I14: =鸿鑫查询!J12 -> 14663.35 | J14: =鸿鑫查询!Q12 -> 359.9155 | K14: =鸿鑫查询!R12 -> 2430.456 | L14: =鸿鑫查询!S12 -> 5097.9685 | M14: =鸿鑫查询!U12 -> 5453.5204 | N14: =鸿鑫查询!V12 -> 355.5519 | P14: =IF(B14>105,"",B14) -> 56 | Q14: =IF(B14>105,"",C14) -> 56 | R14: =IF(D14=0,"",D14) | S14: =IF(E14=0,"",E14) -> 18292 | T14: =IF(F14=0,"",F14) | U14: =IF(G14=0,"",G14) -> 2667.5125 | V14: =IF(H14=0,"",H14) | W14: =IF(I14=0,"",I14) -> 14663.35 | X14: =IF(J14=0,"",J14) -> 359.9155 | Y14: =IF(K14=0,"",K14) -> 2430.456 | ... AB14: =IF(N14=0,"",N14) -> 355.5519
A15: =鸿鑫查询!C13 -> 57 | B15: =B14+1 -> 57 | C15: =鸿鑫查询!C13 -> 57 | D15: =鸿鑫查询!D13 -> 0 | E15: =鸿鑫查询!E13 -> 18292 | F15: =鸿鑫查询!G13 -> 765 | G15: =鸿鑫查询!H13 -> 3512.54 | H15: =鸿鑫查询!I13 -> 0 | I15: =鸿鑫查询!J13 -> 14171.2 | J15: =鸿鑫查询!Q13 -> 366.588 | K15: =鸿鑫查询!R13 -> 2869.957 | L15: =鸿鑫查询!S13 -> 6382.497 | M15: =鸿鑫查询!U13 -> 6832.0444 | N15: =鸿鑫查询!V13 -> 449.54742 | P15: =IF(B15>105,"",B15) -> 57 | Q15: =IF(B15>105,"",C15) -> 57 | R15: =IF(D15=0,"",D15) | S15: =IF(E15=0,"",E15) -> 18292 | T15: =IF(F15=0,"",F15) -> 765 | U15: =IF(G15=0,"",G15) -> 3512.54 | V15: =IF(H15=0,"",H15) | W15: =IF(I15=0,"",I15) -> 14171.2 | X15: =IF(J15=0,"",J15) -> 366.588 | Y15: =IF(K15=0,"",K15) -> 2869.957 | ... AB15: =IF(N15=0,"",N15) -> 449.54742
A16: =鸿鑫查询!C14 -> 58 | B16: =B15+1 -> 58 | C16: =鸿鑫查询!C14 -> 58 | D16: =鸿鑫查询!D14 -> 0 | E16: =鸿鑫查询!E14 -> 18292 | F16: =鸿鑫查询!G14 -> 0 | G16: =鸿鑫查询!H14 -> 3617.9145 | H16: =鸿鑫查询!I14 -> 0 | I16: =鸿鑫查询!J14 -> 14426.2 | J16: =鸿鑫查询!Q14 -> 354.28 | K16: =鸿鑫查询!R14 -> 3310.3335 | L16: =鸿鑫查询!S14 -> 6928.248 | M16: =鸿鑫查询!U14 -> 7454.4385 | N16: =鸿鑫查询!V14 -> 526.19052 | P16: =IF(B16>105,"",B16) -> 58 | Q16: =IF(B16>105,"",C16) -> 58 | R16: =IF(D16=0,"",D16) | S16: =IF(E16=0,"",E16) -> 18292 | T16: =IF(F16=0,"",F16) | U16: =IF(G16=0,"",G16) -> 3617.9145 | V16: =IF(H16=0,"",H16) | W16: =IF(I16=0,"",I16) -> 14426.2 | X16: =IF(J16=0,"",J16) -> 354.28 | Y16: =IF(K16=0,"",K16) -> 3310.3335 | ... AB16: =IF(N16=0,"",N16) -> 526.19052
A17: =鸿鑫查询!C15 -> 59 | B17: =B16+1 -> 59 | C17: =鸿鑫查询!C15 -> 59 | D17: =鸿鑫查询!D15 -> 0 | E17: =鸿鑫查询!E15 -> 18292 | F17: =鸿鑫查询!G15 -> 0 | G17: =鸿鑫查询!H15 -> 3726.451 | H17: =鸿鑫查询!I15 -> 0 | I17: =鸿鑫查询!J15 -> 14687.15 | J17: =鸿鑫查询!Q15 -> 360.655 | K17: =鸿鑫查询!R15 -> 3770.294 | L17: =鸿鑫查询!S15 -> 7496.745 | M17: =鸿鑫查询!U15 -> 8104.7785 | N17: =鸿鑫查询!V15 -> 608.03348 | P17: =IF(B17>105,"",B17) -> 59 | Q17: =IF(B17>105,"",C17) -> 59 | R17: =IF(D17=0,"",D17) | S17: =IF(E17=0,"",E17) -> 18292 | T17: =IF(F17=0,"",F17) | U17: =IF(G17=0,"",G17) -> 3726.451 | V17: =IF(H17=0,"",H17) | W17: =IF(I17=0,"",I17) -> 14687.15 | X17: =IF(J17=0,"",J17) -> 360.655 | Y17: =IF(K17=0,"",K17) -> 3770.294 | ... AB17: =IF(N17=0,"",N17) -> 608.03348
... A63: =鸿鑫查询!C61 -> 105 | B63: =B62+1 -> 105 | C63: =鸿鑫查询!C61 -> 105 | D63: =鸿鑫查询!D61 -> 0 | E63: =鸿鑫查询!E61 -> 0 | F63: =鸿鑫查询!G61 -> 0 | G63: =鸿鑫查询!H61 -> 0 | H63: =鸿鑫查询!I61 -> 0 | I63: =鸿鑫查询!J61 -> 0 | J63: =鸿鑫查询!Q61 -> 0 | K63: =鸿鑫查询!R61 -> 0 | L63: =鸿鑫查询!S61 -> 0 | M63: =鸿鑫查询!U61 -> 104460.24 | N63: =鸿鑫查询!V61 -> 0 | P63: =IF(B63>105,"",B63) -> 105 | Q63: =IF(B63>105,"",C63) -> 105 | R63: =IF(D63=0,"",D63) | S63: =IF(E63=0,"",E63) | T63: =IF(F63=0,"",F63) | U63: =IF(G63=0,"",G63) | V63: =IF(H63=0,"",H63) | W63: =IF(I63=0,"",I63) | X63: =IF(J63=0,"",J63) | Y63: =IF(K63=0,"",K63) | ... AB63: =IF(N63=0,"",N63)
A64: =鸿鑫查询!C62 -> 106 | B64: =B63+1 -> 106 | C64: =鸿鑫查询!C62 -> 106 | D64: =鸿鑫查询!D62 -> 0 | E64: =鸿鑫查询!E62 -> 0 | F64: =鸿鑫查询!G62 -> 0 | G64: =鸿鑫查询!H62 -> 0 | H64: =鸿鑫查询!I62 -> 0 | I64: =鸿鑫查询!J62 -> 0 | J64: =鸿鑫查询!Q62 -> 0 | K64: =鸿鑫查询!R62 -> 0 | L64: =鸿鑫查询!S62 -> 0 | M64: =鸿鑫查询!U62 -> 0 | N64: =鸿鑫查询!V62 -> 0 | P64: =IF(B64>105,"",B64) | Q64: =IF(B64>105,"",C64) | R64: =IF(D64=0,"",D64) | S64: =IF(E64=0,"",E64) | T64: =IF(F64=0,"",F64) | V64: =IF(H64=0,"",H64) | W64: =IF(I64=0,"",I64) | X64: =IF(J64=0,"",J64) | Y64: =IF(K64=0,"",K64) | Z64: =IF(L64=0,"",L64) | AA64: =IF(M64=0,"",M64) | AB64: =IF(N64=0,"",N64)
A65: =鸿鑫查询!C63 -> 107 | B65: =B64+1 -> 107 | C65: =鸿鑫查询!C63 -> 107 | D65: =鸿鑫查询!D63 -> 0 | E65: =鸿鑫查询!E63 -> 0 | F65: =鸿鑫查询!G63 -> 0 | G65: =鸿鑫查询!H63 -> 0 | H65: =鸿鑫查询!I63 -> 0 | I65: =鸿鑫查询!J63 -> 0 | J65: =鸿鑫查询!Q63 -> 0 | K65: =鸿鑫查询!R63 -> 0 | L65: =鸿鑫查询!S63 -> 0 | M65: =鸿鑫查询!U63 -> 0 | N65: =鸿鑫查询!V63 -> 0 | P65: =IF(B65>105,"",B65) | Q65: =IF(B65>105,"",C65) | R65: =IF(D65=0,"",D65) | S65: =IF(E65=0,"",E65) | T65: =IF(F65=0,"",F65) | V65: =IF(H65=0,"",H65) | W65: =IF(I65=0,"",I65) | X65: =IF(J65=0,"",J65) | Y65: =IF(K65=0,"",K65) | Z65: =IF(L65=0,"",L65) | AA65: =IF(M65=0,"",M65) | AB65: =IF(N65=0,"",N65)
A66: =鸿鑫查询!C64 -> 108 | B66: =B65+1 -> 108 | C66: =鸿鑫查询!C64 -> 108 | D66: =鸿鑫查询!D64 -> 0 | E66: =鸿鑫查询!E64 -> 0 | F66: =鸿鑫查询!G64 -> 0 | G66: =鸿鑫查询!H64 -> 0 | H66: =鸿鑫查询!I64 -> 0 | I66: =鸿鑫查询!J64 -> 0 | J66: =鸿鑫查询!Q64 -> 0 | K66: =鸿鑫查询!R64 -> 0 | L66: =鸿鑫查询!S64 -> 0 | M66: =鸿鑫查询!U64 -> 0 | N66: =鸿鑫查询!V64 -> 0 | P66: =IF(B66>105,"",B66) | Q66: =IF(B66>105,"",C66) | R66: =IF(D66=0,"",D66) | S66: =IF(E66=0,"",E66) | T66: =IF(F66=0,"",F66) | V66: =IF(H66=0,"",H66) | W66: =IF(I66=0,"",I66) | X66: =IF(J66=0,"",J66) | Y66: =IF(K66=0,"",K66) | Z66: =IF(L66=0,"",L66) | AA66: =IF(M66=0,"",M66) | AB66: =IF(N66=0,"",N66)
A67: =鸿鑫查询!C65 -> 109 | B67: =B66+1 -> 109 | C67: =鸿鑫查询!C65 -> 109 | D67: =鸿鑫查询!D65 -> 0 | E67: =鸿鑫查询!E65 -> 0 | F67: =鸿鑫查询!G65 -> 0 | G67: =鸿鑫查询!H65 -> 0 | H67: =鸿鑫查询!I65 -> 0 | I67: =鸿鑫查询!J65 -> 0 | J67: =鸿鑫查询!Q65 -> 0 | K67: =鸿鑫查询!R65 -> 0 | L67: =鸿鑫查询!S65 -> 0 | M67: =鸿鑫查询!U65 -> 0 | N67: =鸿鑫查询!V65 -> 0 | P67: =IF(B67>105,"",B67) | Q67: =IF(B67>105,"",C67) | R67: =IF(D67=0,"",D67) | S67: =IF(E67=0,"",E67) | T67: =IF(F67=0,"",F67) | V67: =IF(H67=0,"",H67) | W67: =IF(I67=0,"",I67) | X67: =IF(J67=0,"",J67) | Y67: =IF(K67=0,"",K67) | Z67: =IF(L67=0,"",L67) | AA67: =IF(M67=0,"",M67) | AB67: =IF(N67=0,"",N67)
A68: =鸿鑫查询!C66 -> 110 | B68: =B67+1 -> 110 | C68: =鸿鑫查询!C66 -> 110 | D68: =鸿鑫查询!D66 -> 0 | E68: =鸿鑫查询!E66 -> 0 | F68: =鸿鑫查询!G66 -> 0 | G68: =鸿鑫查询!H66 -> 0 | H68: =鸿鑫查询!I66 -> 0 | I68: =鸿鑫查询!J66 -> 0 | J68: =鸿鑫查询!Q66 -> 0 | K68: =鸿鑫查询!R66 -> 0 | L68: =鸿鑫查询!S66 -> 0 | M68: =鸿鑫查询!U66 -> 0 | N68: =鸿鑫查询!V66 -> 0 | P68: =IF(B68>105,"",B68) | Q68: =IF(B68>105,"",C68) | R68: =IF(D68=0,"",D68) | S68: =IF(E68=0,"",E68) | T68: =IF(F68=0,"",F68) | V68: =IF(H68=0,"",H68) | W68: =IF(I68=0,"",I68) | X68: =IF(J68=0,"",J68) | Y68: =IF(K68=0,"",K68) | Z68: =IF(L68=0,"",L68) | AA68: =IF(M68=0,"",M68) | AB68: =IF(N68=0,"",N68)
A69: =鸿鑫查询!C67 -> 111 | B69: =B68+1 -> 111 | C69: =鸿鑫查询!C67 -> 111 | D69: =鸿鑫查询!D67 -> 0 | E69: =鸿鑫查询!E67 -> 0 | F69: =鸿鑫查询!G67 -> 0 | G69: =鸿鑫查询!H67 -> 0 | H69: =鸿鑫查询!I67 -> 0 | I69: =鸿鑫查询!J67 -> 0 | J69: =鸿鑫查询!Q67 -> 0 | K69: =鸿鑫查询!R67 -> 0 | L69: =鸿鑫查询!S67 -> 0 | M69: =鸿鑫查询!U67 -> 0 | N69: =鸿鑫查询!V67 -> 0 | P69: =IF(B69>105,"",B69) | Q69: =IF(B69>105,"",C69) | R69: =IF(D69=0,"",D69) | S69: =IF(E69=0,"",E69) | T69: =IF(F69=0,"",F69) | V69: =IF(H69=0,"",H69) | W69: =IF(I69=0,"",I69) | X69: =IF(J69=0,"",J69) | Y69: =IF(K69=0,"",K69) | Z69: =IF(L69=0,"",L69) | AA69: =IF(M69=0,"",M69) | AB69: =IF(N69=0,"",N69)
A70: =鸿鑫查询!C68 -> 112 | B70: =B69+1 -> 112 | C70: =鸿鑫查询!C68 -> 112 | D70: =鸿鑫查询!D68 -> 0 | E70: =鸿鑫查询!E68 -> 0 | F70: =鸿鑫查询!G68 -> 0 | G70: =鸿鑫查询!H68 -> 0 | H70: =鸿鑫查询!I68 -> 0 | I70: =鸿鑫查询!J68 -> 0 | J70: =鸿鑫查询!Q68 -> 0 | K70: =鸿鑫查询!R68 -> 0 | L70: =鸿鑫查询!S68 -> 0 | M70: =鸿鑫查询!U68 -> 0 | N70: =鸿鑫查询!V68 -> 0 | P70: =IF(B70>105,"",B70) | Q70: =IF(B70>105,"",C70) | R70: =IF(D70=0,"",D70) | S70: =IF(E70=0,"",E70) | T70: =IF(F70=0,"",F70) | V70: =IF(H70=0,"",H70) | W70: =IF(I70=0,"",I70) | X70: =IF(J70=0,"",J70) | Y70: =IF(K70=0,"",K70) | Z70: =IF(L70=0,"",L70) | AA70: =IF(M70=0,"",M70) | AB70: =IF(N70=0,"",N70)
A71: =鸿鑫查询!C69 -> 113 | B71: =B70+1 -> 113 | C71: =鸿鑫查询!C69 -> 113 | D71: =鸿鑫查询!D69 -> 0 | E71: =鸿鑫查询!E69 -> 0 | F71: =鸿鑫查询!G69 -> 0 | G71: =鸿鑫查询!H69 -> 0 | H71: =鸿鑫查询!I69 -> 0 | I71: =鸿鑫查询!J69 -> 0 | J71: =鸿鑫查询!Q69 -> 0 | K71: =鸿鑫查询!R69 -> 0 | L71: =鸿鑫查询!S69 -> 0 | M71: =鸿鑫查询!U69 -> 0 | N71: =鸿鑫查询!V69 -> 0 | P71: =IF(B71>105,"",B71) | Q71: =IF(B71>105,"",C71) | R71: =IF(D71=0,"",D71) | S71: =IF(E71=0,"",E71) | T71: =IF(F71=0,"",F71) | V71: =IF(H71=0,"",H71) | W71: =IF(I71=0,"",I71) | X71: =IF(J71=0,"",J71) | Y71: =IF(K71=0,"",K71) | Z71: =IF(L71=0,"",L71) | AA71: =IF(M71=0,"",M71) | AB71: =IF(N71=0,"",N71)
A72: =鸿鑫查询!C70 -> 114 | B72: =B71+1 -> 114 | C72: =鸿鑫查询!C70 -> 114 | D72: =鸿鑫查询!D70 -> 0 | E72: =鸿鑫查询!E70 -> 0 | F72: =鸿鑫查询!G70 -> 0 | G72: =鸿鑫查询!H70 -> 0 | H72: =鸿鑫查询!I70 -> 0 | I72: =鸿鑫查询!J70 -> 0 | J72: =鸿鑫查询!Q70 -> 0 | K72: =鸿鑫查询!R70 -> 0 | L72: =鸿鑫查询!S70 -> 0 | M72: =鸿鑫查询!U70 -> 0 | N72: =鸿鑫查询!V70 -> 0 | P72: =IF(B72>105,"",B72) | Q72: =IF(B72>105,"",C72) | R72: =IF(D72=0,"",D72) | S72: =IF(E72=0,"",E72) | T72: =IF(F72=0,"",F72) | V72: =IF(H72=0,"",H72) | W72: =IF(I72=0,"",I72) | X72: =IF(J72=0,"",J72) | Y72: =IF(K72=0,"",K72) | Z72: =IF(L72=0,"",L72) | AA72: =IF(M72=0,"",M72) | AB72: =IF(N72=0,"",N72)
A73: =鸿鑫查询!C71 -> 115 | B73: =B72+1 -> 115 | C73: =鸿鑫查询!C71 -> 115 | D73: =鸿鑫查询!D71 -> 0 | E73: =鸿鑫查询!E71 -> 0 | F73: =鸿鑫查询!G71 -> 0 | G73: =鸿鑫查询!H71 -> 0 | H73: =鸿鑫查询!I71 -> 0 | I73: =鸿鑫查询!J71 -> 0 | J73: =鸿鑫查询!Q71 -> 0 | K73: =鸿鑫查询!R71 -> 0 | L73: =鸿鑫查询!S71 -> 0 | M73: =鸿鑫查询!U71 -> 0 | N73: =鸿鑫查询!V71 -> 0 | P73: =IF(B73>105,"",B73) | Q73: =IF(B73>105,"",C73) | R73: =IF(D73=0,"",D73) | S73: =IF(E73=0,"",E73) | T73: =IF(F73=0,"",F73) | V73: =IF(H73=0,"",H73) | W73: =IF(I73=0,"",I73) | X73: =IF(J73=0,"",J73) | Y73: =IF(K73=0,"",K73) | Z73: =IF(L73=0,"",L73) | AA73: =IF(M73=0,"",M73) | AB73: =IF(N73=0,"",N73)
A74: =鸿鑫查询!C72 -> 116 | B74: =B73+1 -> 116 | C74: =鸿鑫查询!C72 -> 116 | D74: =鸿鑫查询!D72 -> 0 | E74: =鸿鑫查询!E72 -> 0 | F74: =鸿鑫查询!G72 -> 0 | G74: =鸿鑫查询!H72 -> 0 | H74: =鸿鑫查询!I72 -> 0 | I74: =鸿鑫查询!J72 -> 0 | J74: =鸿鑫查询!Q72 -> 0 | K74: =鸿鑫查询!R72 -> 0 | L74: =鸿鑫查询!S72 -> 0 | M74: =鸿鑫查询!U72 -> 0 | N74: =鸿鑫查询!V72 -> 0 | P74: =IF(B74>105,"",B74) | Q74: =IF(B74>105,"",C74) | R74: =IF(D74=0,"",D74) | S74: =IF(E74=0,"",E74) | T74: =IF(F74=0,"",F74) | V74: =IF(H74=0,"",H74) | W74: =IF(I74=0,"",I74) | X74: =IF(J74=0,"",J74) | Y74: =IF(K74=0,"",K74) | Z74: =IF(L74=0,"",L74) | AA74: =IF(M74=0,"",M74) | AB74: =IF(N74=0,"",N74)
A75: =鸿鑫查询!C73 -> 117 | B75: =B74+1 -> 117 | C75: =鸿鑫查询!C73 -> 117 | D75: =鸿鑫查询!D73 -> 0 | E75: =鸿鑫查询!E73 -> 0 | F75: =鸿鑫查询!G73 -> 0 | G75: =鸿鑫查询!H73 -> 0 | H75: =鸿鑫查询!I73 -> 0 | I75: =鸿鑫查询!J73 -> 0 | J75: =鸿鑫查询!Q73 -> 0 | K75: =鸿鑫查询!R73 -> 0 | L75: =鸿鑫查询!S73 -> 0 | M75: =鸿鑫查询!U73 -> 0 | N75: =鸿鑫查询!V73 -> 0 | P75: =IF(B75>105,"",B75) | Q75: =IF(B75>105,"",C75) | R75: =IF(D75=0,"",D75) | S75: =IF(E75=0,"",E75) | T75: =IF(F75=0,"",F75) | V75: =IF(H75=0,"",H75) | W75: =IF(I75=0,"",I75) | X75: =IF(J75=0,"",J75) | Y75: =IF(K75=0,"",K75) | Z75: =IF(L75=0,"",L75) | AA75: =IF(M75=0,"",M75) | AB75: =IF(N75=0,"",N75)
... A87: =鸿鑫查询!C85 -> 129 | B87: =B86+1 -> 129 | C87: =鸿鑫查询!C85 -> 129 | D87: =鸿鑫查询!D85 -> 0 | E87: =鸿鑫查询!E85 -> 0 | F87: =鸿鑫查询!G85 -> 0 | G87: =鸿鑫查询!H85 -> 0 | H87: =鸿鑫查询!I85 -> 0 | I87: =鸿鑫查询!J85 -> 0 | J87: =鸿鑫查询!Q85 -> 0 | K87: =鸿鑫查询!R85 -> 0 | L87: =鸿鑫查询!S85 -> 0 | M87: =鸿鑫查询!U85 -> 0 | N87: =鸿鑫查询!V85 -> 0 | P87: =IF(B87>105,"",B87) | Q87: =IF(B87>105,"",C87) | R87: =IF(D87=0,"",D87) | S87: =IF(E87=0,"",E87) | T87: =IF(F87=0,"",F87) | V87: =IF(H87=0,"",H87) | W87: =IF(I87=0,"",I87) | X87: =IF(J87=0,"",J87) | Y87: =IF(K87=0,"",K87) | Z87: =IF(L87=0,"",L87) | AA87: =IF(M87=0,"",M87) | AB87: =IF(N87=0,"",N87)
B109: =B108+1 -> 1 | P109: =IF(B109>105,"",B109) -> 1
B110: =B109+1 -> 2 | P110: =IF(B110>105,"",B110) -> 2

Sheet 鸿鑫查询
B1: 保单年度 | C1: 年末年龄 | D1: 年初保费 | E1: 累计保费 | F1: 年度最高身故保障 | G1: 生存给付 | H1: 累积生存给付（年末） | I1: 满期给付 | J1: 退保金(现金价值)(年末) | K1: 周年红利低(假定) | L1: 累积红利低(假定) | M1: 周年红利中(假定) | N1: 累积红利中(假定) | O1: 周年红利高(假定) | P1: 累积红利高(假定) | Q1: 周年红利 | R1: 累积红利 | S1: 升级前合计 | T1: 升级后金账户 | U1: 升级后总收益 | V1: 差额 | AB1: 国寿鸿鑫两全保险（分红型）费率表
A2: =B2&C2 -> 146 | B2: 1 | C2: =Y2+1 -> 46 | D2: =IF(C2>80,0,IF($Y$7="3男",VLOOKUP(A2,'3年男'!A:P,4,FALSE),IF(鸿鑫查询!$Y$7="3女",VLOOKUP(A2,'3年女'!A:P,4,FALSE),IF($Y$7="5男",VLOOKUP(A2,'5年男'!A:P,4,FALSE),IF($Y$7="5女",VLOOKUP(A2,'5年女'!A:P,4,FALSE),IF($Y$7="10男",VLOOKUP(A2,'10年男'!A:P,4,FALSE),IF(鸿鑫查询!$Y$7="10女",VLOOKUP(鸿鑫查询!A2,'10年女'!A:P,4,FALSE))))))))*$Y$6 -> 1829.2 | E2: =IF(C2>80,0,IF($Y$7="3男",VLOOKUP(A2,'3年男'!A:P,5,FALSE),IF(鸿鑫查询!$Y$7="3女",VLOOKUP(A2,'3年女'!A:P,5,FALSE),IF($Y$7="5男",VLOOKUP(A2,'5年男'!A:P,5,FALSE),IF($Y$7="5女",VLOOKUP(A2,'5年女'!A:P,5,FALSE),IF($Y$7="10男",VLOOKUP(A2,'10年男'!A:P,5,FALSE),IF(鸿鑫查询!$Y$7="10女",VLOOKUP(鸿鑫查询!A2,'10年女'!A:P,5,FALSE))))))))*$Y$6 -> 1829.2 | F2: =IF(C2>80,0,IF($Y$7="3男",VLOOKUP(A2,'3年男'!A:P,6,FALSE),IF(鸿鑫查询!$Y$7="3女",VLOOKUP(A2,'3年女'!A:P,6,FALSE),IF($Y$7="5男",VLOOKUP(A2,'5年男'!A:P,6,FALSE),IF($Y$7="5女",VLOOKUP(A2,'5年女'!A:P,6,FALSE),IF($Y$7="10男",VLOOKUP(A2,'10年男'!A:P,6,FALSE),IF(鸿鑫查询!$Y$7="10女",VLOOKUP(鸿鑫查询!A2,'10年女'!A:P,6,FALSE))))))))*$Y$6 -> 17000 | G2: =IF(C2>80,0,IF($Y$7="3男",VLOOKUP(A2,'3年男'!A:P,7,FALSE),IF(鸿鑫查询!$Y$7="3女",VLOOKUP(A2,'3年女'!A:P,7,FALSE),IF($Y$7="5男",VLOOKUP(A2,'5年男'!A:P,7,FALSE),IF($Y$7="5女",VLOOKUP(A2,'5年女'!A:P,7,FALSE),IF($Y$7="10男",VLOOKUP(A2,'10年男'!A:P,7,FALSE),IF(鸿鑫查询!$Y$7="10女",VLOOKUP(鸿鑫查询!A2,'10年女'!A:P,7,FALSE))))))))*$Y$6 -> 0 | H2: =IF(C2>80,0,IF($Y$7="3男",VLOOKUP(A2,'3年男'!A:P,8,FALSE),IF(鸿鑫查询!$Y$7="3女",VLOOKUP(A2,'3年女'!A:P,8,FALSE),IF($Y$7="5男",VLOOKUP(A2,'5年男'!A:P,8,FALSE),IF($Y$7="5女",VLOOKUP(A2,'5年女'!A:P,8,FALSE),IF($Y$7="10男",VLOOKUP(A2,'10年男'!A:P,8,FALSE),IF(鸿鑫查询!$Y$7="10女",VLOOKUP(鸿鑫查询!A2,'10年女'!A:P,8,FALSE))))))))*$Y$6 -> 0 | I2: =IF(C2>80,0,IF($Y$7="3男",VLOOKUP(A2,'3年男'!A:P,9,FALSE),IF(鸿鑫查询!$Y$7="3女",VLOOKUP(A2,'3年女'!A:P,9,FALSE),IF($Y$7="5男",VLOOKUP(A2,'5年男'!A:P,9,FALSE),IF($Y$7="5女",VLOOKUP(A2,'5年女'!A:P,9,FALSE),IF($Y$7="10男",VLOOKUP(A2,'10年男'!A:P,9,FALSE),IF(鸿鑫查询!$Y$7="10女",VLOOKUP(鸿鑫查询!A2,'10年女'!A:P,9,FALSE))))))))*$Y$6 -> 0 | J2: =IF(C2>80,0,IF($Y$7="3男",VLOOKUP(A2,'3年男'!A:P,10,FALSE),IF(鸿鑫查询!$Y$7="3女",VLOOKUP(A2,'3年女'!A:P,10,FALSE),IF($Y$7="5男",VLOOKUP(A2,'5年男'!A:P,10,FALSE),IF($Y$7="5女",VLOOKUP(A2,'5年女'!A:P,10,FALSE),IF($Y$7="10男",VLOOKUP(A2,'10年男'!A:P,10,FALSE),IF(鸿鑫查询!$Y$7="10女",VLOOKUP(鸿鑫查询!A2,'10年女'!A:P,10,FALSE))))))))*$Y$6 -> 823.14 | K2: =IF(C2>80,0,IF($Y$7="3男",VLOOKUP(A2,'3年男'!A:P,11,FALSE),IF(鸿鑫查询!$Y$7="3女",VLOOKUP(A2,'3年女'!A:P,11,FALSE),IF($Y$7="5男",VLOOKUP(A2,'5年男'!A:P,11,FALSE),IF($Y$7="5女",VLOOKUP(A2,'5年女'!A:P,11,FALSE),IF($Y$7="10男",VLOOKUP(A2,'10年男'!A:P,11,FALSE),IF(鸿鑫查询!$Y$7="10女",VLOOKUP(鸿鑫查询!A2,'10年女'!A:P,11,FALSE))))))))*$Y$6 -> 10.064 | L2: =IF(C2>80,0,IF($Y$7="3男",VLOOKUP(A2,'3年男'!A:P,12,FALSE),IF(鸿鑫查询!$Y$7="3女",VLOOKUP(A2,'3年女'!A:P,12,FALSE),IF($Y$7="5男",VLOOKUP(A2,'5年男'!A:P,12,FALSE),IF($Y$7="5女",VLOOKUP(A2,'5年女'!A:P,12,FALSE),IF($Y$7="10男",VLOOKUP(A2,'10年男'!A:P,12,FALSE),IF(鸿鑫查询!$Y$7="10女",VLOOKUP(鸿鑫查询!A2,'10年女'!A:P,12,FALSE))))))))*$Y$6 -> 10.064 | M2: =IF(C2>80,0,IF($Y$7="3男",VLOOKUP(A2,'3年男'!A:P,13,FALSE),IF(鸿鑫查询!$Y$7="3女",VLOOKUP(A2,'3年女'!A:P,13,FALSE),IF($Y$7="5男",VLOOKUP(A2,'5年男'!A:P,13,FALSE),IF($Y$7="5女",VLOOKUP(A2,'5年女'!A:P,13,FALSE),IF($Y$7="10男",VLOOKUP(A2,'10年男'!A:P,13,FALSE),IF(鸿鑫查询!$Y$7="10女",VLOOKUP(鸿鑫查询!A2,'10年女'!A:P,13,FALSE))))))))*$Y$6 -> 25.1515 | N2: =IF(C2>80,0,IF($Y$7="3男",VLOOKUP(A2,'3年男'!A:P,14,FALSE),IF(鸿鑫查询!$Y$7="3女",VLOOKUP(A2,'3年女'!A:P,14,FALSE),IF($Y$7="5男",VLOOKUP(A2,'5年男'!A:P,14,FALSE),IF($Y$7="5女",VLOOKUP(A2,'5年女'!A:P,14,FALSE),IF($Y$7="10男",VLOOKUP(A2,'10年男'!A:P,14,FALSE),IF(鸿鑫查询!$Y$7="10女",VLOOKUP(鸿鑫查询!A2,'10年女'!A:P,14,FALSE))))))))*$Y$6 -> 25.1515 | O2: =IF(C2>80,0,IF($Y$7="3男",VLOOKUP(A2,'3年男'!A:P,15,FALSE),IF(鸿鑫查询!$Y$7="3女",VLOOKUP(A2,'3年女'!A:P,15,FALSE),IF($Y$7="5男",VLOOKUP(A2,'5年男'!A:P,15,FALSE),IF($Y$7="5女",VLOOKUP(A2,'5年女'!A:P,15,FALSE),IF($Y$7="10男",VLOOKUP(A2,'10年男'!A:P,15,FALSE),IF(鸿鑫查询!$Y$7="10女",VLOOKUP(鸿鑫查询!A2,'10年女'!A:P,15,FALSE))))))))*$Y$6 -> 40.239 | P2: =IF(C2>80,0,IF($Y$7="3男",VLOOKUP(A2,'3年男'!A:P,16,FALSE),IF(鸿鑫查询!$Y$7="3女",VLOOKUP(A2,'3年女'!A:P,16,FALSE),IF($Y$7="5男",VLOOKUP(A2,'5年男'!A:P,16,FALSE),IF($Y$7="5女",VLOOKUP(A2,'5年女'!A:P,16,FALSE),IF($Y$7="10男",VLOOKUP(A2,'10年男'!A:P,16,FALSE),IF(鸿鑫查询!$Y$7="10女",VLOOKUP(鸿鑫查询!A2,'10年女'!A:P,16,FALSE))))))))*$Y$6 -> 40.239 | Q2: =IF($Y$23="高",O2,IF($Y$23="中",M2,IF($Y$23="低",K2))) -> 25.1515 | R2: =IF($Y$23="高",P2,IF($Y$23="中",N2,IF($Y$23="低",L2))) -> 25.1515 | S2: =H2+I2+R2 -> 25.1515 | T2: =(G2+I2)*(1+$Y$25/12)^12 -> 0 | U2: =IF(C2>80,0,(T2+R2)) -> 25.1515 | V2: =IF(C2>80,0,U2-S2) -> 0 | X2: 投保年龄 | Y2: =升级利益说明表!D8 -> 45 | AB2: （每10000元基本保险金额）
A3: =B3&C3 -> 247 | B3: 2 | C3: =C2+1 -> 47 | D3: =IF(C3>80,0,IF($Y$7="3男",VLOOKUP(A3,'3年男'!A:P,4,FALSE),IF(鸿鑫查询!$Y$7="3女",VLOOKUP(A3,'3年女'!A:P,4,FALSE),IF($Y$7="5男",VLOOKUP(A3,'5年男'!A:P,4,FALSE),IF($Y$7="5女",VLOOKUP(A3,'5年女'!A:P,4,FALSE),IF($Y$7="10男",VLOOKUP(A3,'10年男'!A:P,4,FALSE),IF(鸿鑫查询!$Y$7="10女",VLOOKUP(鸿鑫查询!A3,'10年女'!A:P,4,FALSE))))))))*$Y$6 -> 1829.2 | E3: =IF(C3>80,0,IF($Y$7="3男",VLOOKUP(A3,'3年男'!A:P,5,FALSE),IF(鸿鑫查询!$Y$7="3女",VLOOKUP(A3,'3年女'!A:P,5,FALSE),IF($Y$7="5男",VLOOKUP(A3,'5年男'!A:P,5,FALSE),IF($Y$7="5女",VLOOKUP(A3,'5年女'!A:P,5,FALSE),IF($Y$7="10男",VLOOKUP(A3,'10年男'!A:P,5,FALSE),IF(鸿鑫查询!$Y$7="10女",VLOOKUP(鸿鑫查询!A3,'10年女'!A:P,5,FALSE))))))))*$Y$6 -> 3658.4 | F3: =IF(C3>80,0,IF($Y$7="3男",VLOOKUP(A3,'3年男'!A:P,6,FALSE),IF(鸿鑫查询!$Y$7="3女",VLOOKUP(A3,'3年女'!A:P,6,FALSE),IF($Y$7="5男",VLOOKUP(A3,'5年男'!A:P,6,FALSE),IF($Y$7="5女",VLOOKUP(A3,'5年女'!A:P,6,FALSE),IF($Y$7="10男",VLOOKUP(A3,'10年男'!A:P,6,FALSE),IF(鸿鑫查询!$Y$7="10女",VLOOKUP(鸿鑫查询!A3,'10年女'!A:P,6,FALSE))))))))*$Y$6 -> 17000 | G3: =IF(C3>80,0,IF($Y$7="3男",VLOOKUP(A3,'3年男'!A:P,7,FALSE),IF(鸿鑫查询!$Y$7="3女",VLOOKUP(A3,'3年女'!A:P,7,FALSE),IF($Y$7="5男",VLOOKUP(A3,'5年男'!A:P,7,FALSE),IF($Y$7="5女",VLOOKUP(A3,'5年女'!A:P,7,FALSE),IF($Y$7="10男",VLOOKUP(A3,'10年男'!A:P,7,FALSE),IF(鸿鑫查询!$Y$7="10女",VLOOKUP(鸿鑫查询!A3,'10年女'!A:P,7,FALSE))))))))*$Y$6 -> 0 | H3: =IF(C3>80,0,IF($Y$7="3男",VLOOKUP(A3,'3年男'!A:P,8,FALSE),IF(鸿鑫查询!$Y$7="3女",VLOOKUP(A3,'3年女'!A:P,8,FALSE),IF($Y$7="5男",VLOOKUP(A3,'5年男'!A:P,8,FALSE),IF($Y$7="5女",VLOOKUP(A3,'5年女'!A:P,8,FALSE),IF($Y$7="10男",VLOOKUP(A3,'10年男'!A:P,8,FALSE),IF(鸿鑫查询!$Y$7="10女",VLOOKUP(鸿鑫查询!A3,'10年女'!A:P,8,FALSE))))))))*$Y$6 -> 0 | I3: =IF(C3>80,0,IF($Y$7="3男",VLOOKUP(A3,'3年男'!A:P,9,FALSE),IF(鸿鑫查询!$Y$7="3女",VLOOKUP(A3,'3年女'!A:P,9,FALSE),IF($Y$7="5男",VLOOKUP(A3,'5年男'!A:P,9,FALSE),IF($Y$7="5女",VLOOKUP(A3,'5年女'!A:P,9,FALSE),IF($Y$7="10男",VLOOKUP(A3,'10年男'!A:P,9,FALSE),IF(鸿鑫查询!$Y$7="10女",VLOOKUP(鸿鑫查询!A3,'10年女'!A:P,9,FALSE))))))))*$Y$6 -> 0 | J3: =IF(C3>80,0,IF($Y$7="3男",VLOOKUP(A3,'3年男'!A:P,10,FALSE),IF(鸿鑫查询!$Y$7="3女",VLOOKUP(A3,'3年女'!A:P,10,FALSE),IF($Y$7="5男",VLOOKUP(A3,'5年男'!A:P,10,FALSE),IF($Y$7="5女",VLOOKUP(A3,'5年女'!A:P,10,FALSE),IF($Y$7="10男",VLOOKUP(A3,'10年男'!A:P,10,FALSE),IF(鸿鑫查询!$Y$7="10女",VLOOKUP(鸿鑫查询!A3,'10年女'!A:P,10,FALSE))))))))*$Y$6 -> 2151.35 | K3: =IF(C3>80,0,IF($Y$7="3男",VLOOKUP(A3,'3年男'!A:P,11,FALSE),IF(鸿鑫查询!$Y$7="3女",VLOOKUP(A3,'3年女'!A:P,11,FALSE),IF($Y$7="5男",VLOOKUP(A3,'5年男'!A:P,11,FALSE),IF($Y$7="5女",VLOOKUP(A3,'5年女'!A:P,11,FALSE),IF($Y$7="10男",VLOOKUP(A3,'10年男'!A:P,11,FALSE),IF(鸿鑫查询!$Y$7="10女",VLOOKUP(鸿鑫查询!A3,'10年女'!A:P,11,FALSE))))))))*$Y$6 -> 23.4515 | L3: =IF(C3>80,0,IF($Y$7="3男",VLOOKUP(A3,'3年男'!A:P,12,FALSE),IF(鸿鑫查询!$Y$7="3女",VLOOKUP(A3,'3年女'!A:P,12,FALSE),IF($Y$7="5男",VLOOKUP(A3,'5年男'!A:P,12,FALSE),IF($Y$7="5女",VLOOKUP(A3,'5年女'!A:P,12,FALSE),IF($Y$7="10男",VLOOKUP(A3,'10年男'!A:P,12,FALSE),IF(鸿鑫查询!$Y$7="10女",VLOOKUP(鸿鑫查询!A3,'10年女'!A:P,12,FALSE))))))))*$Y$6 -> 33.813 | M3: =IF(C3>80,0,IF($Y$7="3男",VLOOKUP(A3,'3年男'!A:P,13,FALSE),IF(鸿鑫查询!$Y$7="3女",VLOOKUP(A3,'3年女'!A:P,13,FALSE),IF($Y$7="5男",VLOOKUP(A3,'5年男'!A:P,13,FALSE),IF($Y$7="5女",VLOOKUP(A3,'5年女'!A:P,13,FALSE),IF($Y$7="10男",VLOOKUP(A3,'10年男'!A:P,13,FALSE),IF(鸿鑫查询!$Y$7="10女",VLOOKUP(鸿鑫查询!A3,'10年女'!A:P,13,FALSE))))))))*$Y$6 -> 58.633 | N3: =IF(C3>80,0,IF($Y$7="3男",VLOOKUP(A3,'3年男'!A:P,14,FALSE),IF(鸿鑫查询!$Y$7="3女",VLOOKUP(A3,'3年女'!A:P,14,FALSE),IF($Y$7="5男",VLOOKUP(A3,'5年男'!A:P,14,FALSE),IF($Y$7="5女",VLOOKUP(A3,'5年女'!A:P,14,FALSE),IF($Y$7="10男",VLOOKUP(A3,'10年男'!A:P,14,FALSE),IF(鸿鑫查询!$Y$7="10女",VLOOKUP(鸿鑫查询!A3,'10年女'!A:P,14,FALSE))))))))*$Y$6 -> 84.5325 | O3: =IF(C3>80,0,IF($Y$7="3男",VLOOKUP(A3,'3年男'!A:P,15,FALSE),IF(鸿鑫查询!$Y$7="3女",VLOOKUP(A3,'3年女'!A:P,15,FALSE),IF($Y$7="5男",VLOOKUP(A3,'5年男'!A:P,15,FALSE),IF($Y$7="5女",VLOOKUP(A3,'5年女'!A:P,15,FALSE),IF($Y$7="10男",VLOOKUP(A3,'10年男'!A:P,15,FALSE),IF(鸿鑫查询!$Y$7="10女",VLOOKUP(鸿鑫查询!A3,'10年女'!A:P,15,FALSE))))))))*$Y$6 -> 93.806 | P3: =IF(C3>80,0,IF($Y$7="3男",VLOOKUP(A3,'3年男'!A:P,16,FALSE),IF(鸿鑫查询!$Y$7="3女",VLOOKUP(A3,'3年女'!A:P,16,FALSE),IF($Y$7="5男",VLOOKUP(A3,'5年男'!A:P,16,FALSE),IF($Y$7="5女",VLOOKUP(A3,'5年女'!A:P,16,FALSE),IF($Y$7="10男",VLOOKUP(A3,'10年男'!A:P,16,FALSE),IF(鸿鑫查询!$Y$7="10女",VLOOKUP(鸿鑫查询!A3,'10年女'!A:P,16,FALSE))))))))*$Y$6 -> 135.252 | Q3: =IF($Y$23="高",O3,IF($Y$23="中",M3,IF($Y$23="低",K3))) -> 58.633 | R3: =IF($Y$23="高",P3,IF($Y$23="中",N3,IF($Y$23="低",L3))) -> 84.5325 | S3: =H3+I3+R3 -> 84.5325 | T3: =(T2+G3+I3)*(1+$Y$25/12)^12 -> 0 | U3: =IF(C3>105,0,(T3+R3)) -> 84.5325 | V3: =IF(C3>80,0,U3-S3) -> 0 | X3: 性别 | Y3: =升级利益说明表!F8 -> 男 | Z3: 男 | AB3: 货币单位：人民币元
A4: =B4&C4 -> 348 | B4: 3 | C4: =C3+1 -> 48 | D4: =IF(C4>80,0,IF($Y$7="3男",VLOOKUP(A4,'3年男'!A:P,4,FALSE),IF(鸿鑫查询!$Y$7="3女",VLOOKUP(A4,'3年女'!A:P,4,FALSE),IF($Y$7="5男",VLOOKUP(A4,'5年男'!A:P,4,FALSE),IF($Y$7="5女",VLOOKUP(A4,'5年女'!A:P,4,FALSE),IF($Y$7="10男",VLOOKUP(A4,'10年男'!A:P,4,FALSE),IF(鸿鑫查询!$Y$7="10女",VLOOKUP(鸿鑫查询!A4,'10年女'!A:P,4,FALSE))))))))*$Y$6 -> 1829.2 | E4: =IF(C4>80,0,IF($Y$7="3男",VLOOKUP(A4,'3年男'!A:P,5,FALSE),IF(鸿鑫查询!$Y$7="3女",VLOOKUP(A4,'3年女'!A:P,5,FALSE),IF($Y$7="5男",VLOOKUP(A4,'5年男'!A:P,5,FALSE),IF($Y$7="5女",VLOOKUP(A4,'5年女'!A:P,5,FALSE),IF($Y$7="10男",VLOOKUP(A4,'10年男'!A:P,5,FALSE),IF(鸿鑫查询!$Y$7="10女",VLOOKUP(鸿鑫查询!A4,'10年女'!A:P,5,FALSE))))))))*$Y$6 -> 5487.6 | F4: =IF(C4>80,0,IF($Y$7="3男",VLOOKUP(A4,'3年男'!A:P,6,FALSE),IF(鸿鑫查询!$Y$7="3女",VLOOKUP(A4,'3年女'!A:P,6,FALSE),IF($Y$7="5男",VLOOKUP(A4,'5年男'!A:P,6,FALSE),IF($Y$7="5女",VLOOKUP(A4,'5年女'!A:P,6,FALSE),IF($Y$7="10男",VLOOKUP(A4,'10年男'!A:P,6,FALSE),IF(鸿鑫查询!$Y$7="10女",VLOOKUP(鸿鑫查询!A4,'10年女'!A:P,6,FALSE))))))))*$Y$6 -> 17000 | G4: =IF(C4>80,0,IF($Y$7="3男",VLOOKUP(A4,'3年男'!A:P,7,FALSE),IF(鸿鑫查询!$Y$7="3女",VLOOKUP(A4,'3年女'!A:P,7,FALSE),IF($Y$7="5男",VLOOKUP(A4,'5年男'!A:P,7,FALSE),IF($Y$7="5女",VLOOKUP(A4,'5年女'!A:P,7,FALSE),IF($Y$7="10男",VLOOKUP(A4,'10年男'!A:P,7,FALSE),IF(鸿鑫查询!$Y$7="10女",VLOOKUP(鸿鑫查询!A4,'10年女'!A:P,7,FALSE))))))))*$Y$6 -> 765 | H4: =IF(C4>80,0,IF($Y$7="3男",VLOOKUP(A4,'3年男'!A:P,8,FALSE),IF(鸿鑫查询!$Y$7="3女",VLOOKUP(A4,'3年女'!A:P,8,FALSE),IF($Y$7="5男",VLOOKUP(A4,'5年男'!A:P,8,FALSE),IF($Y$7="5女",VLOOKUP(A4,'5年女'!A:P,8,FALSE),IF($Y$7="10男",VLOOKUP(A4,'10年男'!A:P,8,FALSE),IF(鸿鑫查询!$Y$7="10女",VLOOKUP(鸿鑫查询!A4,'10年女'!A:P,8,FALSE))))))))*$Y$6 -> 765 | I4: =IF(C4>80,0,IF($Y$7="3男",VLOOKUP(A4,'3年男'!A:P,9,FALSE),IF(鸿鑫查询!$Y$7="3女",VLOOKUP(A4,'3年女'!A:P,9,FALSE),IF($Y$7="5男",VLOOKUP(A4,'5年男'!A:P,9,FALSE),IF($Y$7="5女",VLOOKUP(A4,'5年女'!A:P,9,FALSE),IF($Y$7="10男",VLOOKUP(A4,'10年男'!A:P,9,FALSE),IF(鸿鑫查询!$Y$7="10女",VLOOKUP(鸿鑫查询!A4,'10年女'!A:P,9,FALSE))))))))*$Y$6 -> 0 | J4: =IF(C4>80,0,IF($Y$7="3男",VLOOKUP(A4,'3年男'!A:P,10,FALSE),IF(鸿鑫查询!$Y$7="3女",VLOOKUP(A4,'3年女'!A:P,10,FALSE),IF($Y$7="5男",VLOOKUP(A4,'5年男'!A:P,10,FALSE),IF($Y$7="5女",VLOOKUP(A4,'5年女'!A:P,10,FALSE),IF($Y$7="10男",VLOOKUP(A4,'10年男'!A:P,10,FALSE),IF(鸿鑫查询!$Y$7="10女",VLOOKUP(鸿鑫查询!A4,'10年女'!A:P,10,FALSE))))))))*$Y$6 -> 2759.1 | K4: =IF(C4>80,0,IF($Y$7="3男",VLOOKUP(A4,'3年男'!A:P,11,FALSE),IF(鸿鑫查询!$Y$7="3女",VLOOKUP(A4,'3年女'!A:P,11,FALSE),IF($Y$7="5男",VLOOKUP(A4,'5年男'!A:P,11,FALSE),IF($Y$7="5女",VLOOKUP(A4,'5年女'!A:P,11,FALSE),IF($Y$7="10男",VLOOKUP(A4,'10年男'!A:P,11,FALSE),IF(鸿鑫查询!$Y$7="10女",VLOOKUP(鸿鑫查询!A4,'10年女'!A:P,11,FALSE))))))))*$Y$6 -> 37.111 | L4: =IF(C4>80,0,IF($Y$7="3男",VLOOKUP(A4,'3年男'!A:P,12,FALSE),IF(鸿鑫查询!$Y$7="3女",VLOOKUP(A4,'3年女'!A:P,12,FALSE),IF($Y$7="5男",VLOOKUP(A4,'5年男'!A:P,12,FALSE),IF($Y$7="5女",VLOOKUP(A4,'5年女'!A:P,12,FALSE),IF($Y$7="10男",VLOOKUP(A4,'10年男'!A:P,12,FALSE),IF(鸿鑫查询!$Y$7="10女",VLOOKUP(鸿鑫查询!A4,'10年女'!A:P,12,FALSE))))))))*$Y$6 -> 71.9355 | M4: =IF(C4>80,0,IF($Y$7="3男",VLOOKUP(A4,'3年男'!A:P,13,FALSE),IF(鸿鑫查询!$Y$7="3女",VLOOKUP(A4,'3年女'!A:P,13,FALSE),IF($Y$7="5男",VLOOKUP(A4,'5年男'!A:P,13,FALSE),IF($Y$7="5女",VLOOKUP(A4,'5年女'!A:P,13,FALSE),IF($Y$7="10男",VLOOKUP(A4,'10年男'!A:P,13,FALSE),IF(鸿鑫查询!$Y$7="10女",VLOOKUP(鸿鑫查询!A4,'10年女'!A:P,13,FALSE))))))))*$Y$6 -> 92.7775 | N4: =IF(C4>80,0,IF($Y$7="3男",VLOOKUP(A4,'3年男'!A:P,14,FALSE),IF(鸿鑫查询!$Y$7="3女",VLOOKUP(A4,'3年女'!A:P,14,FALSE),IF($Y$7="5男",VLOOKUP(A4,'5年男'!A:P,14,FALSE),IF($Y$7="5女",VLOOKUP(A4,'5年女'!A:P,14,FALSE),IF($Y$7="10男",VLOOKUP(A4,'10年男'!A:P,14,FALSE),IF(鸿鑫查询!$Y$7="10女",VLOOKUP(鸿鑫查询!A4,'10年女'!A:P,14,FALSE))))))))*$Y$6 -> 179.8515 | O4: =IF(C4>80,0,IF($Y$7="3男",VLOOKUP(A4,'3年男'!A:P,15,FALSE),IF(鸿鑫查询!$Y$7="3女",VLOOKUP(A4,'3年女'!A:P,15,FALSE),IF($Y$7="5男",VLOOKUP(A4,'5年男'!A:P,15,FALSE),IF($Y$7="5女",VLOOKUP(A4,'5年女'!A:P,15,FALSE),IF($Y$7="10男",VLOOKUP(A4,'10年男'!A:P,15,FALSE),IF(鸿鑫查询!$Y$7="10女",VLOOKUP(鸿鑫查询!A4,'10年女'!A:P,15,FALSE))))))))*$Y$6 -> 148.444 | P4: =IF(C4>80,0,IF($Y$7="3男",VLOOKUP(A4,'3年男'!A:P,16,FALSE),IF(鸿鑫查询!$Y$7="3女",VLOOKUP(A4,'3年女'!A:P,16,FALSE),IF($Y$7="5男",VLOOKUP(A4,'5年男'!A:P,16,FALSE),IF($Y$7="5女",VLOOKUP(A4,'5年女'!A:P,16,FALSE),IF($Y$7="10男",VLOOKUP(A4,'10年男'!A:P,16,FALSE),IF(鸿鑫查询!$Y$7="10女",VLOOKUP(鸿鑫查询!A4,'10年女'!A:P,16,FALSE))))))))*$Y$6 -> 287.759 | Q4: =IF($Y$23="高",O4,IF($Y$23="中",M4,IF($Y$23="低",K4))) -> 92.7775 | R4: =IF($Y$23="高",P4,IF($Y$23="中",N4,IF($Y$23="低",L4))) -> 179.8515 | S4: =H4+I4+R4 -> 944.8515 | T4: =(T3+G4+I4)*(1+$Y$25/12)^12 -> 800.14397 | U4: =IF(C4>105,0,(T4+R4)) -> 979.99547 | V4: =IF(C4>80,0,U4-S4) -> 35.143966 | X4: 投保年期 | Y4: =升级利益说明表!G8 -> 10 | Z4: 女 | AB4: 投保年龄 | AC4: 男性 | AG4: 女性
A5: =B5&C5 -> 449 | B5: 4 | C5: =C4+1 -> 49 | D5: =IF(C5>80,0,IF($Y$7="3男",VLOOKUP(A5,'3年男'!A:P,4,FALSE),IF(鸿鑫查询!$Y$7="3女",VLOOKUP(A5,'3年女'!A:P,4,FALSE),IF($Y$7="5男",VLOOKUP(A5,'5年男'!A:P,4,FALSE),IF($Y$7="5女",VLOOKUP(A5,'5年女'!A:P,4,FALSE),IF($Y$7="10男",VLOOKUP(A5,'10年男'!A:P,4,FALSE),IF(鸿鑫查询!$Y$7="10女",VLOOKUP(鸿鑫查询!A5,'10年女'!A:P,4,FALSE))))))))*$Y$6 -> 1829.2 | E5: =IF(C5>80,0,IF($Y$7="3男",VLOOKUP(A5,'3年男'!A:P,5,FALSE),IF(鸿鑫查询!$Y$7="3女",VLOOKUP(A5,'3年女'!A:P,5,FALSE),IF($Y$7="5男",VLOOKUP(A5,'5年男'!A:P,5,FALSE),IF($Y$7="5女",VLOOKUP(A5,'5年女'!A:P,5,FALSE),IF($Y$7="10男",VLOOKUP(A5,'10年男'!A:P,5,FALSE),IF(鸿鑫查询!$Y$7="10女",VLOOKUP(鸿鑫查询!A5,'10年女'!A:P,5,FALSE))))))))*$Y$6 -> 7316.8 | F5: =IF(C5>80,0,IF($Y$7="3男",VLOOKUP(A5,'3年男'!A:P,6,FALSE),IF(鸿鑫查询!$Y$7="3女",VLOOKUP(A5,'3年女'!A:P,6,FALSE),IF($Y$7="5男",VLOOKUP(A5,'5年男'!A:P,6,FALSE),IF($Y$7="5女",VLOOKUP(A5,'5年女'!A:P,6,FALSE),IF($Y$7="10男",VLOOKUP(A5,'10年男'!A:P,6,FALSE),IF(鸿鑫查询!$Y$7="10女",VLOOKUP(鸿鑫查询!A5,'10年女'!A:P,6,FALSE))))))))*$Y$6 -> 17000 | G5: =IF(C5>80,0,IF($Y$7="3男",VLOOKUP(A5,'3年男'!A:P,7,FALSE),IF(鸿鑫查询!$Y$7="3女",VLOOKUP(A5,'3年女'!A:P,7,FALSE),IF($Y$7="5男",VLOOKUP(A5,'5年男'!A:P,7,FALSE),IF($Y$7="5女",VLOOKUP(A5,'5年女'!A:P,7,FALSE),IF($Y$7="10男",VLOOKUP(A5,'10年男'!A:P,7,FALSE),IF(鸿鑫查询!$Y$7="10女",VLOOKUP(鸿鑫查询!A5,'10年女'!A:P,7,FALSE))))))))*$Y$6 -> 0 | H5: =IF(C5>80,0,IF($Y$7="3男",VLOOKUP(A5,'3年男'!A:P,8,FALSE),IF(鸿鑫查询!$Y$7="3女",VLOOKUP(A5,'3年女'!A:P,8,FALSE),IF($Y$7="5男",VLOOKUP(A5,'5年男'!A:P,8,FALSE),IF($Y$7="5女",VLOOKUP(A5,'5年女'!A:P,8,FALSE),IF($Y$7="10男",VLOOKUP(A5,'10年男'!A:P,8,FALSE),IF(鸿鑫查询!$Y$7="10女",VLOOKUP(鸿鑫查询!A5,'10年女'!A:P,8,FALSE))))))))*$Y$6 -> 787.95 | I5: =IF(C5>80,0,IF($Y$7="3男",VLOOKUP(A5,'3年男'!A:P,9,FALSE),IF(鸿鑫查询!$Y$7="3女",VLOOKUP(A5,'3年女'!A:P,9,FALSE),IF($Y$7="5男",VLOOKUP(A5,'5年男'!A:P,9,FALSE),IF($Y$7="5女",VLOOKUP(A5,'5年女'!A:P,9,FALSE),IF($Y$7="10男",VLOOKUP(A5,'10年男'!A:P,9,FALSE),IF(鸿鑫查询!$Y$7="10女",VLOOKUP(鸿鑫查询!A5,'10年女'!A:P,9,FALSE))))))))*$Y$6 -> 0 | J5: =IF(C5>80,0,IF($Y$7="3男",VLOOKUP(A5,'3年男'!A:P,10,FALSE),IF(鸿鑫查询!$Y$7="3女",VLOOKUP(A5,'3年女'!A:P,10,FALSE),IF($Y$7="5男",VLOOKUP(A5,'5年男'!A:P,10,FALSE),IF($Y$7="5女",VLOOKUP(A5,'5年女'!A:P,10,FALSE),IF($Y$7="10男",VLOOKUP(A5,'10年男'!A:P,10,FALSE),IF(鸿鑫查询!$Y$7="10女",VLOOKUP(鸿鑫查询!A5,'10年女'!A:P,10,FALSE))))))))*$Y$6 -> 4425.1 | K5: =IF(C5>80,0,IF($Y$7="3男",VLOOKUP(A5,'3年男'!A:P,11,FALSE),IF(鸿鑫查询!$Y$7="3女",VLOOKUP(A5,'3年女'!A:P,11,FALSE),IF($Y$7="5男",VLOOKUP(A5,'5年男'!A:P,11,FALSE),IF($Y$7="5女",VLOOKUP(A5,'5年女'!A:P,11,FALSE),IF($Y$7="10男",VLOOKUP(A5,'10年男'!A:P,11,FALSE),IF(鸿鑫查询!$Y$7="10女",VLOOKUP(鸿鑫查询!A5,'10年女'!A:P,11,FALSE))))))))*$Y$6 -> 46.6735 | L5: =IF(C5>80,0,IF($Y$7="3男",VLOOKUP(A5,'3年男'!A:P,12,FALSE),IF(鸿鑫查询!$Y$7="3女",VLOOKUP(A5,'3年女'!A:P,12,FALSE),IF($Y$7="5男",VLOOKUP(A5,'5年男'!A:P,12,FALSE),IF($Y$7="5女",VLOOKUP(A5,'5年女'!A:P,12,FALSE),IF($Y$7="10男",VLOOKUP(A5,'10年男'!A:P,12,FALSE),IF(鸿鑫查询!$Y$7="10女",VLOOKUP(鸿鑫查询!A5,'10年女'!A:P,12,FALSE))))))))*$Y$6 -> 120.7765 | M5: =IF(C5>80,0,IF($Y$7="3男",VLOOKUP(A5,'3年男'!A:P,13,FALSE),IF(鸿鑫查询!$Y$7="3女",VLOOKUP(A5,'3年女'!A:P,13,FALSE),IF($Y$7="5男",VLOOKUP(A5,'5年男'!A:P,13,FALSE),IF($Y$7="5女",VLOOKUP(A5,'5年女'!A:P,13,FALSE),IF($Y$7="10男",VLOOKUP(A5,'10年男'!A:P,13,FALSE),IF(鸿鑫查询!$Y$7="10女",VLOOKUP(鸿鑫查询!A5,'10年女'!A:P,13,FALSE))))))))*$Y$6 -> 116.688 | N5: =IF(C5>80,0,IF($Y$7="3男",VLOOKUP(A5,'3年男'!A:P,14,FALSE),IF(鸿鑫查询!$Y$7="3女",VLOOKUP(A5,'3年女'!A:P,14,FALSE),IF($Y$7="5男",VLOOKUP(A5,'5年男'!A:P,14,FALSE),IF($Y$7="5女",VLOOKUP(A5,'5年女'!A:P,14,FALSE),IF($Y$7="10男",VLOOKUP(A5,'10年男'!A:P,14,FALSE),IF(鸿鑫查询!$Y$7="10女",VLOOKUP(鸿鑫查询!A5,'10年女'!A:P,14,FALSE))))))))*$Y$6 -> 301.937 | O5: =IF(C5>80,0,IF($Y$7="3男",VLOOKUP(A5,'3年男'!A:P,15,FALSE),IF(鸿鑫查询!$Y$7="3女",VLOOKUP(A5,'3年女'!A:P,15,FALSE),IF($Y$7="5男",VLOOKUP(A5,'5年男'!A:P,15,FALSE),IF($Y$7="5女",VLOOKUP(A5,'5年女'!A:P,15,FALSE),IF($Y$7="10男",VLOOKUP(A5,'10年男'!A:P,15,FALSE),IF(鸿鑫查询!$Y$7="10女",VLOOKUP(鸿鑫查询!A5,'10年女'!A:P,15,FALSE))))))))*$Y$6 -> 186.7025 | P5: =IF(C5>80,0,IF($Y$7="3男",VLOOKUP(A5,'3年男'!A:P,16,FALSE),IF(鸿鑫查询!$Y$7="3女",VLOOKUP(A5,'3年女'!A:P,16,FALSE),IF($Y$7="5男",VLOOKUP(A5,'5年男'!A:P,16,FALSE),IF($Y$7="5女",VLOOKUP(A5,'5年女'!A:P,16,FALSE),IF($Y$7="10男",VLOOKUP(A5,'10年男'!A:P,16,FALSE),IF(鸿鑫查询!$Y$7="10女",VLOOKUP(鸿鑫查询!A5,'10年女'!A:P,16,FALSE))))))))*$Y$6 -> 483.0975 | Q5: =IF($Y$23="高",O5,IF($Y$23="中",M5,IF($Y$23="低",K5))) -> 116.688 | R5: =IF($Y$23="高",P5,IF($Y$23="中",N5,IF($Y$23="低",L5))) -> 301.937 | S5: =H5+I5+R5 -> 1089.887 | T5: =(T4+G5+I5)*(1+$Y$25/12)^12 -> 836.90244 | U5: =IF(C5>105,0,(T5+R5)) -> 1138.8394 | V5: =IF(C5>80,0,U5-S5) -> 48.95244 | X5: 保险金额 | Y5: =升级利益说明表!L8 -> 8500 | Z5: 3 | AC5: 趸缴 | AD5: 三年交 | AE5: 五年交 | AF5: 十年交 | AG5: 趸缴 | AH5: 三年交 | AI5: 五年交 | AJ5: 十年交
A6: =B6&C6 -> 550 | B6: 5 | C6: =C5+1 -> 50 | D6: =IF(C6>80,0,IF($Y$7="3男",VLOOKUP(A6,'3年男'!A:P,4,FALSE),IF(鸿鑫查询!$Y$7="3女",VLOOKUP(A6,'3年女'!A:P,4,FALSE),IF($Y$7="5男",VLOOKUP(A6,'5年男'!A:P,4,FALSE),IF($Y$7="5女",VLOOKUP(A6,'5年女'!A:P,4,FALSE),IF($Y$7="10男",VLOOKUP(A6,'10年男'!A:P,4,FALSE),IF(鸿鑫查询!$Y$7="10女",VLOOKUP(鸿鑫查询!A6,'10年女'!A:P,4,FALSE))))))))*$Y$6 -> 1829.2 | E6: =IF(C6>80,0,IF($Y$7="3男",VLOOKUP(A6,'3年男'!A:P,5,FALSE),IF(鸿鑫查询!$Y$7="3女",VLOOKUP(A6,'3年女'!A:P,5,FALSE),IF($Y$7="5男",VLOOKUP(A6,'5年男'!A:P,5,FALSE),IF($Y$7="5女",VLOOKUP(A6,'5年女'!A:P,5,FALSE),IF($Y$7="10男",VLOOKUP(A6,'10年男'!A:P,5,FALSE),IF(鸿鑫查询!$Y$7="10女",VLOOKUP(鸿鑫查询!A6,'10年女'!A:P,5,FALSE))))))))*$Y$6 -> 9146 | F6: =IF(C6>80,0,IF($Y$7="3男",VLOOKUP(A6,'3年男'!A:P,6,FALSE),IF(鸿鑫查询!$Y$7="3女",VLOOKUP(A6,'3年女'!A:P,6,FALSE),IF($Y$7="5男",VLOOKUP(A6,'5年男'!A:P,6,FALSE),IF($Y$7="5女",VLOOKUP(A6,'5年女'!A:P,6,FALSE),IF($Y$7="10男",VLOOKUP(A6,'10年男'!A:P,6,FALSE),IF(鸿鑫查询!$Y$7="10女",VLOOKUP(鸿鑫查询!A6,'10年女'!A:P,6,FALSE))))))))*$Y$6 -> 17000 | G6: =IF(C6>80,0,IF($Y$7="3男",VLOOKUP(A6,'3年男'!A:P,7,FALSE),IF(鸿鑫查询!$Y$7="3女",VLOOKUP(A6,'3年女'!A:P,7,FALSE),IF($Y$7="5男",VLOOKUP(A6,'5年男'!A:P,7,FALSE),IF($Y$7="5女",VLOOKUP(A6,'5年女'!A:P,7,FALSE),IF($Y$7="10男",VLOOKUP(A6,'10年男'!A:P,7,FALSE),IF(鸿鑫查询!$Y$7="10女",VLOOKUP(鸿鑫查询!A6,'10年女'!A:P,7,FALSE))))))))*$Y$6 -> 0 | H6: =IF(C6>80,0,IF($Y$7="3男",VLOOKUP(A6,'3年男'!A:P,8,FALSE),IF(鸿鑫查询!$Y$7="3女",VLOOKUP(A6,'3年女'!A:P,8,FALSE),IF($Y$7="5男",VLOOKUP(A6,'5年男'!A:P,8,FALSE),IF($Y$7="5女",VLOOKUP(A6,'5年女'!A:P,8,FALSE),IF($Y$7="10男",VLOOKUP(A6,'10年男'!A:P,8,FALSE),IF(鸿鑫查询!$Y$7="10女",VLOOKUP(鸿鑫查询!A6,'10年女'!A:P,8,FALSE))))))))*$Y$6 -> 811.5885 | I6: =IF(C6>80,0,IF($Y$7="3男",VLOOKUP(A6,'3年男'!A:P,9,FALSE),IF(鸿鑫查询!$Y$7="3女",VLOOKUP(A6,'3年女'!A:P,9,FALSE),IF($Y$7="5男",VLOOKUP(A6,'5年男'!A:P,9,FALSE),IF($Y$7="5女",VLOOKUP(A6,'5年女'!A:P,9,FALSE),IF($Y$7="10男",VLOOKUP(A6,'10年男'!A:P,9,FALSE),IF(鸿鑫查询!$Y$7="10女",VLOOKUP(鸿鑫查询!A6,'10年女'!A:P,9,FALSE))))))))*$Y$6 -> 0 | J6: =IF(C6>80,0,IF($Y$7="3男",VLOOKUP(A6,'3年男'!A:P,10,FALSE),IF(鸿鑫查询!$Y$7="3女",VLOOKUP(A6,'3年女'!A:P,10,FALSE),IF($Y$7="5男",VLOOKUP(A6,'5年男'!A:P,10,FALSE),IF($Y$7="5女",VLOOKUP(A6,'5年女'!A:P,10,FALSE),IF($Y$7="10男",VLOOKUP(A6,'10年男'!A:P,10,FALSE),IF(鸿鑫查询!$Y$7="10女",VLOOKUP(鸿鑫查询!A6,'10年女'!A:P,10,FALSE))))))))*$Y$6 -> 6161.65 | K6: =IF(C6>80,0,IF($Y$7="3男",VLOOKUP(A6,'3年男'!A:P,11,FALSE),IF(鸿鑫查询!$Y$7="3女",VLOOKUP(A6,'3年女'!A:P,11,FALSE),IF($Y$7="5男",VLOOKUP(A6,'5年男'!A:P,11,FALSE),IF($Y$7="5女",VLOOKUP(A6,'5年女'!A:P,11,FALSE),IF($Y$7="10男",VLOOKUP(A6,'10年男'!A:P,11,FALSE),IF(鸿鑫查询!$Y$7="10女",VLOOKUP(鸿鑫查询!A6,'10年女'!A:P,11,FALSE))))))))*$Y$6 -> 64.0815 | L6: =IF(C6>80,0,IF($Y$7="3男",VLOOKUP(A6,'3年男'!A:P,12,FALSE),IF(鸿鑫查询!$Y$7="3女",VLOOKUP(A6,'3年女'!A:P,12,FALSE),IF($Y$7="5男",VLOOKUP(A6,'5年男'!A:P,12,FALSE),IF($Y$7="5女",VLOOKUP(A6,'5年女'!A:P,12,FALSE),IF($Y$7="10男",VLOOKUP(A6,'10年男'!A:P,12,FALSE),IF(鸿鑫查询!$Y$7="10女",VLOOKUP(鸿鑫查询!A6,'10年女'!A:P,12,FALSE))))))))*$Y$6 -> 188.479 | M6: =IF(C6>80,0,IF($Y$7="3男",VLOOKUP(A6,'3年男'!A:P,13,FALSE),IF(鸿鑫查询!$Y$7="3女",VLOOKUP(A6,'3年女'!A:P,13,FALSE),IF($Y$7="5男",VLOOKUP(A6,'5年男'!A:P,13,FALSE),IF($Y$7="5女",VLOOKUP(A6,'5年女'!A:P,13,FALSE),IF($Y$7="10男",VLOOKUP(A6,'10年男'!A:P,13,FALSE),IF(鸿鑫查询!$Y$7="10女",VLOOKUP(鸿鑫查询!A6,'10年女'!A:P,13,FALSE))))))))*$Y$6 -> 160.208 | N6: =IF(C6>80,0,IF($Y$7="3男",VLOOKUP(A6,'3年男'!A:P,14,FALSE),IF(鸿鑫查询!$Y$7="3女",VLOOKUP(A6,'3年女'!A:P,14,FALSE),IF($Y$7="5男",VLOOKUP(A6,'5年男'!A:P,14,FALSE),IF($Y$7="5女",VLOOKUP(A6,'5年女'!A:P,14,FALSE),IF($Y$7="10男",VLOOKUP(A6,'10年男'!A:P,14,FALSE),IF(鸿鑫查询!$Y$7="10女",VLOOKUP(鸿鑫查询!A6,'10年女'!A:P,14,FALSE))))))))*$Y$6 -> 471.206 | O6: =IF(C6>80,0,IF($Y$7="3男",VLOOKUP(A6,'3年男'!A:P,15,FALSE),IF(鸿鑫查询!$Y$7="3女",VLOOKUP(A6,'3年女'!A:P,15,FALSE),IF($Y$7="5男",VLOOKUP(A6,'5年男'!A:P,15,FALSE),IF($Y$7="5女",VLOOKUP(A6,'5年女'!A:P,15,FALSE),IF($Y$7="10男",VLOOKUP(A6,'10年男'!A:P,15,FALSE),IF(鸿鑫查询!$Y$7="10女",VLOOKUP(鸿鑫查询!A6,'10年女'!A:P,15,FALSE))))))))*$Y$6 -> 256.3345 | P6: =IF(C6>80,0,IF($Y$7="3男",VLOOKUP(A6,'3年男'!A:P,16,FALSE),IF(鸿鑫查询!$Y$7="3女",VLOOKUP(A6,'3年女'!A:P,16,FALSE),IF($Y$7="5男",VLOOKUP(A6,'5年男'!A:P,16,FALSE),IF($Y$7="5女",VLOOKUP(A6,'5年女'!A:P,16,FALSE),IF($Y$7="10男",VLOOKUP(A6,'10年男'!A:P,16,FALSE),IF(鸿鑫查询!$Y$7="10女",VLOOKUP(鸿鑫查询!A6,'10年女'!A:P,16,FALSE))))))))*$Y$6 -> 753.9245 | Q6: =IF($Y$23="高",O6,IF($Y$23="中",M6,IF($Y$23="低",K6))) -> 160.208 | R6: =IF($Y$23="高",P6,IF($Y$23="中",N6,IF($Y$23="低",L6))) -> 471.206 | S6: =H6+I6+R6 -> 1282.7945 | T6: =(T5+G6+I6)*(1+$Y$25/12)^12 -> 875.34959 | U6: =IF(C6>105,0,(T6+R6)) -> 1346.5556 | V6: =IF(C6>80,0,U6-S6) -> 63.761092 | X6: 份数 | Y6: =Y5/10000 -> 0.85 | Z6: 5 | AB6: 0 | AC6: 17267 | AD6: 6240 | AE6: 3822 | AF6: 2010 | AG6: 17035 | AH6: 6155 | AI6: 3768 | AJ6: 1981
A7: =B7&C7 -> 651 | B7: 6 | C7: =C6+1 -> 51 | D7: =IF(C7>80,0,IF($Y$7="3男",VLOOKUP(A7,'3年男'!A:P,4,FALSE),IF(鸿鑫查询!$Y$7="3女",VLOOKUP(A7,'3年女'!A:P,4,FALSE),IF($Y$7="5男",VLOOKUP(A7,'5年男'!A:P,4,FALSE),IF($Y$7="5女",VLOOKUP(A7,'5年女'!A:P,4,FALSE),IF($Y$7="10男",VLOOKUP(A7,'10年男'!A:P,4,FALSE),IF(鸿鑫查询!$Y$7="10女",VLOOKUP(鸿鑫查询!A7,'10年女'!A:P,4,FALSE))))))))*$Y$6 -> 1829.2 | E7: =IF(C7>80,0,IF($Y$7="3男",VLOOKUP(A7,'3年男'!A:P,5,FALSE),IF(鸿鑫查询!$Y$7="3女",VLOOKUP(A7,'3年女'!A:P,5,FALSE),IF($Y$7="5男",VLOOKUP(A7,'5年男'!A:P,5,FALSE),IF($Y$7="5女",VLOOKUP(A7,'5年女'!A:P,5,FALSE),IF($Y$7="10男",VLOOKUP(A7,'10年男'!A:P,5,FALSE),IF(鸿鑫查询!$Y$7="10女",VLOOKUP(鸿鑫查询!A7,'10年女'!A:P,5,FALSE))))))))*$Y$6 -> 10975.2 | F7: =IF(C7>80,0,IF($Y$7="3男",VLOOKUP(A7,'3年男'!A:P,6,FALSE),IF(鸿鑫查询!$Y$7="3女",VLOOKUP(A7,'3年女'!A:P,6,FALSE),IF($Y$7="5男",VLOOKUP(A7,'5年男'!A:P,6,FALSE),IF($Y$7="5女",VLOOKUP(A7,'5年女'!A:P,6,FALSE),IF($Y$7="10男",VLOOKUP(A7,'10年男'!A:P,6,FALSE),IF(鸿鑫查询!$Y$7="10女",VLOOKUP(鸿鑫查询!A7,'10年女'!A:P,6,FALSE))))))))*$Y$6 -> 17000 | G7: =IF(C7>80,0,IF($Y$7="3男",VLOOKUP(A7,'3年男'!A:P,7,FALSE),IF(鸿鑫查询!$Y$7="3女",VLOOKUP(A7,'3年女'!A:P,7,FALSE),IF($Y$7="5男",VLOOKUP(A7,'5年男'!A:P,7,FALSE),IF($Y$7="5女",VLOOKUP(A7,'5年女'!A:P,7,FALSE),IF($Y$7="10男",VLOOKUP(A7,'10年男'!A:P,7,FALSE),IF(鸿鑫查询!$Y$7="10女",VLOOKUP(鸿鑫查询!A7,'10年女'!A:P,7,FALSE))))))))*$Y$6 -> 765 | H7: =IF(C7>80,0,IF($Y$7="3男",VLOOKUP(A7,'3年男'!A:P,8,FALSE),IF(鸿鑫查询!$Y$7="3女",VLOOKUP(A7,'3年女'!A:P,8,FALSE),IF($Y$7="5男",VLOOKUP(A7,'5年男'!A:P,8,FALSE),IF($Y$7="5女",VLOOKUP(A7,'5年女'!A:P,8,FALSE),IF($Y$7="10男",VLOOKUP(A7,'10年男'!A:P,8,FALSE),IF(鸿鑫查询!$Y$7="10女",VLOOKUP(鸿鑫查询!A7,'10年女'!A:P,8,FALSE))))))))*$Y$6 -> 1600.9325 | I7: =IF(C7>80,0,IF($Y$7="3男",VLOOKUP(A7,'3年男'!A:P,9,FALSE),IF(鸿鑫查询!$Y$7="3女",VLOOKUP(A7,'3年女'!A:P,9,FALSE),IF($Y$7="5男",VLOOKUP(A7,'5年男'!A:P,9,FALSE),IF($Y$7="5女",VLOOKUP(A7,'5年女'!A:P,9,FALSE),IF($Y$7="10男",VLOOKUP(A7,'10年男'!A:P,9,FALSE),IF(鸿鑫查询!$Y$7="10女",VLOOKUP(鸿鑫查询!A7,'10年女'!A:P,9,FALSE))))))))*$Y$6 -> 0 | J7: =IF(C7>80,0,IF($Y$7="3男",VLOOKUP(A7,'3年男'!A:P,10,FALSE),IF(鸿鑫查询!$Y$7="3女",VLOOKUP(A7,'3年女'!A:P,10,FALSE),IF($Y$7="5男",VLOOKUP(A7,'5年男'!A:P,10,FALSE),IF($Y$7="5女",VLOOKUP(A7,'5年女'!A:P,10,FALSE),IF($Y$7="10男",VLOOKUP(A7,'10年男'!A:P,10,FALSE),IF(鸿鑫查询!$Y$7="10女",VLOOKUP(鸿鑫查询!A7,'10年女'!A:P,10,FALSE))))))))*$Y$6 -> 7237.75 | K7: =IF(C7>80,0,IF($Y$7="3男",VLOOKUP(A7,'3年男'!A:P,11,FALSE),IF(鸿鑫查询!$Y$7="3女",VLOOKUP(A7,'3年女'!A:P,11,FALSE),IF($Y$7="5男",VLOOKUP(A7,'5年男'!A:P,11,FALSE),IF($Y$7="5女",VLOOKUP(A7,'5年女'!A:P,11,FALSE),IF($Y$7="10男",VLOOKUP(A7,'10年男'!A:P,11,FALSE),IF(鸿鑫查询!$Y$7="10女",VLOOKUP(鸿鑫查询!A7,'10年女'!A:P,11,FALSE))))))))*$Y$6 -> 81.8635 | L7: =IF(C7>80,0,IF($Y$7="3男",VLOOKUP(A7,'3年男'!A:P,12,FALSE),IF(鸿鑫查询!$Y$7="3女",VLOOKUP(A7,'3年女'!A:P,12,FALSE),IF($Y$7="5男",VLOOKUP(A7,'5年男'!A:P,12,FALSE),IF($Y$7="5女",VLOOKUP(A7,'5年女'!A:P,12,FALSE),IF($Y$7="10男",VLOOKUP(A7,'10年男'!A:P,12,FALSE),IF(鸿鑫查询!$Y$7="10女",VLOOKUP(鸿鑫查询!A7,'10年女'!A:P,12,FALSE))))))))*$Y$6 -> 276.0035 | M7: =IF(C7>80,0,IF($Y$7="3男",VLOOKUP(A7,'3年男'!A:P,13,FALSE),IF(鸿鑫查询!$Y$7="3女",VLOOKUP(A7,'3年女'!A:P,13,FALSE),IF($Y$7="5男",VLOOKUP(A7,'5年男'!A:P,13,FALSE),IF($Y$7="5女",VLOOKUP(A7,'5年女'!A:P,13,FALSE),IF($Y$7="10男",VLOOKUP(A7,'10年男'!A:P,13,FALSE),IF(鸿鑫查询!$Y$7="10女",VLOOKUP(鸿鑫查询!A7,'10年女'!A:P,13,FALSE))))))))*$Y$6 -> 204.663 | N7: =IF(C7>80,0,IF($Y$7="3男",VLOOKUP(A7,'3年男'!A:P,14,FALSE),IF(鸿鑫查询!$Y$7="3女",VLOOKUP(A7,'3年女'!A:P,14,FALSE),IF($Y$7="5男",VLOOKUP(A7,'5年男'!A:P,14,FALSE),IF($Y$7="5女",VLOOKUP(A7,'5年女'!A:P,14,FALSE),IF($Y$7="10男",VLOOKUP(A7,'10年男'!A:P,14,FALSE),IF(鸿鑫查询!$Y$7="10女",VLOOKUP(鸿鑫查询!A7,'10年女'!A:P,14,FALSE))))))))*$Y$6 -> 690.0045 | O7: =IF(C7>80,0,IF($Y$7="3男",VLOOKUP(A7,'3年男'!A:P,15,FALSE),IF(鸿鑫查询!$Y$7="3女",VLOOKUP(A7,'3年女'!A:P,15,FALSE),IF($Y$7="5男",VLOOKUP(A7,'5年男'!A:P,15,FALSE),IF($Y$7="5女",VLOOKUP(A7,'5年女'!A:P,15,FALSE),IF($Y$7="10男",VLOOKUP(A7,'10年男'!A:P,15,FALSE),IF(鸿鑫查询!$Y$7="10女",VLOOKUP(鸿鑫查询!A7,'10年女'!A:P,15,FALSE))))))))*$Y$6 -> 327.4625 | P7: =IF(C7>80,0,IF($Y$7="3男",VLOOKUP(A7,'3年男'!A:P,16,FALSE),IF(鸿鑫查询!$Y$7="3女",VLOOKUP(A7,'3年女'!A:P,16,FALSE),IF($Y$7="5男",VLOOKUP(A7,'5年男'!A:P,16,FALSE),IF($Y$7="5女",VLOOKUP(A7,'5年女'!A:P,16,FALSE),IF($Y$7="10男",VLOOKUP(A7,'10年男'!A:P,16,FALSE),IF(鸿鑫查询!$Y$7="10女",VLOOKUP(鸿鑫查询!A7,'10年女'!A:P,16,FALSE))))))))*$Y$6 -> 1104.014 | Q7: =IF($Y$23="高",O7,IF($Y$23="中",M7,IF($Y$23="低",K7))) -> 204.663 | R7: =IF($Y$23="高",P7,IF($Y$23="中",N7,IF($Y$23="低",L7))) -> 690.0045 | S7: =H7+I7+R7 -> 2290.937 | T7: =(T6+G7+I7)*(1+$Y$25/12)^12 -> 1715.707 | U7: =IF(C7>105,0,(T7+R7)) -> 2405.7115 | V7: =IF(C7>80,0,U7-S7) -> 114.77446 | X7: 对表 | Y7: =Y4&Y3 -> 10男 | Z7: 10 | AB7: 1 | AC7: 17299 | AD7: 6247 | AE7: 3824 | AF7: 2010 | AG7: 17072 | AH7: 6163 | AI7: 3771 | AJ7: 1981
A8: =B8&C8 -> 752 | B8: 7 | C8: =C7+1 -> 52 | D8: =IF(C8>80,0,IF($Y$7="3男",VLOOKUP(A8,'3年男'!A:P,4,FALSE),IF(鸿鑫查询!$Y$7="3女",VLOOKUP(A8,'3年女'!A:P,4,FALSE),IF($Y$7="5男",VLOOKUP(A8,'5年男'!A:P,4,FALSE),IF($Y$7="5女",VLOOKUP(A8,'5年女'!A:P,4,FALSE),IF($Y$7="10男",VLOOKUP(A8,'10年男'!A:P,4,FALSE),IF(鸿鑫查询!$Y$7="10女",VLOOKUP(鸿鑫查询!A8,'10年女'!A:P,4,FALSE))))))))*$Y$6 -> 1829.2 | E8: =IF(C8>80,0,IF($Y$7="3男",VLOOKUP(A8,'3年男'!A:P,5,FALSE),IF(鸿鑫查询!$Y$7="3女",VLOOKUP(A8,'3年女'!A:P,5,FALSE),IF($Y$7="5男",VLOOKUP(A8,'5年男'!A:P,5,FALSE),IF($Y$7="5女",VLOOKUP(A8,'5年女'!A:P,5,FALSE),IF($Y$7="10男",VLOOKUP(A8,'10年男'!A:P,5,FALSE),IF(鸿鑫查询!$Y$7="10女",VLOOKUP(鸿鑫查询!A8,'10年女'!A:P,5,FALSE))))))))*$Y$6 -> 12804.4 | F8: =IF(C8>80,0,IF($Y$7="3男",VLOOKUP(A8,'3年男'!A:P,6,FALSE),IF(鸿鑫查询!$Y$7="3女",VLOOKUP(A8,'3年女'!A:P,6,FALSE),IF($Y$7="5男",VLOOKUP(A8,'5年男'!A:P,6,FALSE),IF($Y$7="5女",VLOOKUP(A8,'5年女'!A:P,6,FALSE),IF($Y$7="10男",VLOOKUP(A8,'10年男'!A:P,6,FALSE),IF(鸿鑫查询!$Y$7="10女",VLOOKUP(鸿鑫查询!A8,'10年女'!A:P,6,FALSE))))))))*$Y$6 -> 17000 | G8: =IF(C8>80,0,IF($Y$7="3男",VLOOKUP(A8,'3年男'!A:P,7,FALSE),IF(鸿鑫查询!$Y$7="3女",VLOOKUP(A8,'3年女'!A:P,7,FALSE),IF($Y$7="5男",VLOOKUP(A8,'5年男'!A:P,7,FALSE),IF($Y$7="5女",VLOOKUP(A8,'5年女'!A:P,7,FALSE),IF($Y$7="10男",VLOOKUP(A8,'10年男'!A:P,7,FALSE),IF(鸿鑫查询!$Y$7="10女",VLOOKUP(鸿鑫查询!A8,'10年女'!A:P,7,FALSE))))))))*$Y$6 -> 0 | H8: =IF(C8>80,0,IF($Y$7="3男",VLOOKUP(A8,'3年男'!A:P,8,FALSE),IF(鸿鑫查询!$Y$7="3女",VLOOKUP(A8,'3年女'!A:P,8,FALSE),IF($Y$7="5男",VLOOKUP(A8,'5年男'!A:P,8,FALSE),IF($Y$7="5女",VLOOKUP(A8,'5年女'!A:P,8,FALSE),IF($Y$7="10男",VLOOKUP(A8,'10年男'!A:P,8,FALSE),IF(鸿鑫查询!$Y$7="10女",VLOOKUP(鸿鑫查询!A8,'10年女'!A:P,8,FALSE))))))))*$Y$6 -> 1648.966 | I8: =IF(C8>80,0,IF($Y$7="3男",VLOOKUP(A8,'3年男'!A:P,9,FALSE),IF(鸿鑫查询!$Y$7="3女",VLOOKUP(A8,'3年女'!A:P,9,FALSE),IF($Y$7="5男",VLOOKUP(A8,'5年男'!A:P,9,FALSE),IF($Y$7="5女",VLOOKUP(A8,'5年女'!A:P,9,FALSE),IF($Y$7="10男",VLOOKUP(A8,'10年男'!A:P,9,FALSE),IF(鸿鑫查询!$Y$7="10女",VLOOKUP(鸿鑫查询!A8,'10年女'!A:P,9,FALSE))))))))*$Y$6 -> 0 | J8: =IF(C8>80,0,IF($Y$7="3男",VLOOKUP(A8,'3年男'!A:P,10,FALSE),IF(鸿鑫查询!$Y$7="3女",VLOOKUP(A8,'3年女'!A:P,10,FALSE),IF($Y$7="5男",VLOOKUP(A8,'5年男'!A:P,10,FALSE),IF($Y$7="5女",VLOOKUP(A8,'5年女'!A:P,10,FALSE),IF($Y$7="10男",VLOOKUP(A8,'10年男'!A:P,10,FALSE),IF(鸿鑫查询!$Y$7="10女",VLOOKUP(鸿鑫查询!A8,'10年女'!A:P,10,FALSE))))))))*$Y$6 -> 9099.25 | K8: =IF(C8>80,0,IF($Y$7="3男",VLOOKUP(A8,'3年男'!A:P,11,FALSE),IF(鸿鑫查询!$Y$7="3女",VLOOKUP(A8,'3年女'!A:P,11,FALSE),IF($Y$7="5男",VLOOKUP(A8,'5年男'!A:P,11,FALSE),IF($Y$7="5女",VLOOKUP(A8,'5年女'!A:P,11,FALSE),IF($Y$7="10男",VLOOKUP(A8,'10年男'!A:P,11,FALSE),IF(鸿鑫查询!$Y$7="10女",VLOOKUP(鸿鑫查询!A8,'10年女'!A:P,11,FALSE))))))))*$Y$6 -> 92.4035 | L8: =IF(C8>80,0,IF($Y$7="3男",VLOOKUP(A8,'3年男'!A:P,12,FALSE),IF(鸿鑫查询!$Y$7="3女",VLOOKUP(A8,'3年女'!A:P,12,FALSE),IF($Y$7="5男",VLOOKUP(A8,'5年男'!A:P,12,FALSE),IF($Y$7="5女",VLOOKUP(A8,'5年女'!A:P,12,FALSE),IF($Y$7="10男",VLOOKUP(A8,'10年男'!A:P,12,FALSE),IF(鸿鑫查询!$Y$7="10女",VLOOKUP(鸿鑫查询!A8,'10年女'!A:P,12,FALSE))))))))*$Y$6 -> 376.686 | M8: =IF(C8>80,0,IF($Y$7="3男",VLOOKUP(A8,'3年男'!A:P,13,FALSE),IF(鸿鑫查询!$Y$7="3女",VLOOKUP(A8,'3年女'!A:P,13,FALSE),IF($Y$7="5男",VLOOKUP(A8,'5年男'!A:P,13,FALSE),IF($Y$7="5女",VLOOKUP(A8,'5年女'!A:P,13,FALSE),IF($Y$7="10男",VLOOKUP(A8,'10年男'!A:P,13,FALSE),IF(鸿鑫查询!$Y$7="10女",VLOOKUP(鸿鑫查询!A8,'10年女'!A:P,13,FALSE))))))))*$Y$6 -> 231.013 | N8: =IF(C8>80,0,IF($Y$7="3男",VLOOKUP(A8,'3年男'!A:P,14,FALSE),IF(鸿鑫查询!$Y$7="3女",VLOOKUP(A8,'3年女'!A:P,14,FALSE),IF($Y$7="5男",VLOOKUP(A8,'5年男'!A:P,14,FALSE),IF($Y$7="5女",VLOOKUP(A8,'5年女'!A:P,14,FALSE),IF($Y$7="10男",VLOOKUP(A8,'10年男'!A:P,14,FALSE),IF(鸿鑫查询!$Y$7="10女",VLOOKUP(鸿鑫查询!A8,'10年女'!A:P,14,FALSE))))))))*$Y$6 -> 941.7235 | O8: =IF(C8>80,0,IF($Y$7="3男",VLOOKUP(A8,'3年男'!A:P,15,FALSE),IF(鸿鑫查询!$Y$7="3女",VLOOKUP(A8,'3年女'!A:P,15,FALSE),IF($Y$7="5男",VLOOKUP(A8,'5年男'!A:P,15,FALSE),IF($Y$7="5女",VLOOKUP(A8,'5年女'!A:P,15,FALSE),IF($Y$7="10男",VLOOKUP(A8,'10年男'!A:P,15,FALSE),IF(鸿鑫查询!$Y$7="10女",VLOOKUP(鸿鑫查询!A8,'10年女'!A:P,15,FALSE))))))))*$Y$6 -> 369.6225 | P8: =IF(C8>80,0,IF($Y$7="3男",VLOOKUP(A8,'3年男'!A:P,16,FALSE),IF(鸿鑫查询!$Y$7="3女",VLOOKUP(A8,'3年女'!A:P,16,FALSE),IF($Y$7="5男",VLOOKUP(A8,'5年男'!A:P,16,FALSE),IF($Y$7="5女",VLOOKUP(A8,'5年女'!A:P,16,FALSE),IF($Y$7="10男",VLOOKUP(A8,'10年男'!A:P,16,FALSE),IF(鸿鑫查询!$Y$7="10女",VLOOKUP(鸿鑫查询!A8,'10年女'!A:P,16,FALSE))))))))*$Y$6 -> 1506.761 | Q8: =IF($Y$23="高",O8,IF($Y$23="中",M8,IF($Y$23="低",K8))) -> 231.013 | R8: =IF($Y$23="高",P8,IF($Y$23="中",N8,IF($Y$23="低",L8))) -> 941.7235 | S8: =H8+I8+R8 -> 2590.6895 | T8: =(T7+G8+I8)*(1+$Y$25/12)^12 -> 1794.5262 | U8: =IF(C8>105,0,(T8+R8)) -> 2736.2497 | V8: =IF(C8>80,0,U8-S8) -> 145.56024 | X8: 首期保费 | Y8: =D2 -> 1829.2 | AB8: 2 | AC8: 17333 | AD8: 6256 | AE8: 3828 | AF8: 2012 | AG8: 17111 | AH8: 6174 | AI8: 3777 | AJ8: 1983
