Workbook

Sheet 结果
A1: 国寿鑫如意年金保险（白金版）收益演示表
A2: 50岁领取：
A3: 投保年龄 | B3: 性别 | C3: 交费年期 | D3: 年交保费 | E3: 万能账户收益率 | F3: 基本保额 | G3: 领取年龄 | H3: 生存金 | I3: 年金 | J3: 满期金 | K3: 金账户 | L3: 收入合计
A4: 0 | B4: 男 | C4: 10 | D4: 10000 | E4: 0.025 | F4: =VLOOKUP(A4&B4&C4,'50岁开始领取'!A:E,5,FALSE)/10000*D4 -> 2470 | G4: 50 | H4: =D4*10%+(G4-A4-1)*F4 -> 122030 | I4: =F4*(30+465*10%) -> 188955 | J4: =C4*D4 -> 100000 | K4: ='50岁开始领取-万能账户'!G88 -> 459167.61 | L4: =H4+I4+J4+K4 -> 870152.61
A8: 55岁领取：
A9: 投保年龄 | B9: 性别 | C9: 交费年期 | D9: 年交保费 | E9: 万能账户收益率 | F9: 基本保额 | G9: 领取年龄 | H9: 生存金 | I9: 年金 | J9: 满期金 | K9: 金账户 | L9: 收入合计
A10: 0 | B10: 男 | C10: 10 | D10: 10000 | E10: 0.025 | F10: =VLOOKUP(A10&B10&C10,'55岁开始领取'!A:E,5,FALSE)/10000*D10 -> 2570 | G10: 55 | H10: =D10*10%+(G10-A10-1)*F10 -> 139780 | I10: =F10*(25+325*10%) -> 147775 | J10: =C10*D10 -> 100000 | K10: ='55岁开始领取-万能账户'!G88 -> 460921.51 | L10: =H10+I10+J10+K10 -> 848476.51
A14: 60岁领取：
A15: 投保年龄 | B15: 性别 | C15: 交费年期 | D15: 年交保费 | E15: 万能账户收益率 | F15: 基本保额 | G15: 领取年龄 | H15: 生存金 | I15: 年金 | J15: 满期金 | K15: 金账户 | L15: 收入合计
A16: 0 | B16: 男 | C16: 10 | D16: 10000 | E16: 0.025 | F16: =VLOOKUP(A16&B16&C16,'60岁开始领取'!A:E,5,FALSE)/10000*D16 -> 2646 | G16: 60 | H16: =D16*10%+(G16-A16-1)*F16 -> 157114 | I16: =F16*(20+210*10%) -> 108486 | J16: =C16*D16 -> 100000 | K16: ='60岁开始领取-万能账户'!G88 -> 463264.09 | L16: =H16+I16+J16+K16 -> 828864.09
A20: 10年后领取：
A21: 投保年龄 | B21: 性别 | C21: 交费年期 | D21: 年交保费 | E21: 万能账户收益率 | F21: 基本保额 | G21: 领取年龄 | H21: 生存金 | I21: 年金 | J21: 满期金 | K21: 金账户 | L21: 收入合计
A22: 0 | B22: 男 | C22: 10 | D22: 10000 | E22: 0.025 | F22: =VLOOKUP(A22&B22&C22,'10年后开始领取'!A:E,5,FALSE)/10000*D22 -> 1147 | G22: =A22+10 -> 10 | H22: =D22*10%+(G22-A22-1)*F22 -> 11323 | I22: =VLOOKUP(G22,年金过程指标!A:D,4,FALSE)*F22 -> 365319.5 | J22: =C22*D22 -> 100000 | K22: ='10年后领取-万能账户'!G88 -> 478245.03 | L22: =H22+I22+J22+K22 -> 954887.53
A25: 说明： | B25: 黄色区域可录入数据，白色区域为自动计算结果。

Sheet 50岁开始领取
A1: 标识 | B1: 投保年龄 | C1: 性别 | D1: 交费期 | E1: 基本保额
A2: =B2&C2&D2 -> 0男3 | B2: 0 | C2: 男 | D2: 3 | E2: 838
A3: =B3&C3&D3 -> 0男5 | B3: 0 | C3: 男 | D3: 5 | E3: 1352
A4: =B4&C4&D4 -> 0男10 | B4: 0 | C4: 男 | D4: 10 | E4: 2470
A5: =B5&C5&D5 -> 0女3 | B5: 0 | C5: 女 | D5: 3 | E5: 836
A6: =B6&C6&D6 -> 0女5 | B6: 0 | C6: 女 | D6: 5 | E6: 1348
A7: =B7&C7&D7 -> 0女10 | B7: 0 | C7: 女 | D7: 10 | E7: 2464
A8: =B8&C8&D8 -> 1男3 | B8: 1 | C8: 男 | D8: 3 | E8: 834
A9: =B9&C9&D9 -> 1男5 | B9: 1 | C9: 男 | D9: 5 | E9: 1346
A10: =B10&C10&D10 -> 1男10 | B10: 1 | C10: 男 | D10: 10 | E10: 2457
A11: =B11&C11&D11 -> 1女3 | B11: 1 | C11: 女 | D11: 3 | E11: 832
A12: =B12&C12&D12 -> 1女5 | B12: 1 | C12: 女 | D12: 5 | E12: 1342
A13: =B13&C13&D13 -> 1女10 | B13: 1 | C13: 女 | D13: 10 | E13: 2451
... A241: =B241&C241&D241 -> 39女10 | B241: 39 | C241: 女 | D241: 10 | E241: 1475

Sheet 50岁开始领取-万能账户
A1: 领取年龄 | B1: 年金 | C1: 万能账户收益 | E1: 保单年度 | F1: 生存金 | G1: 万能账户收益
A2: 50 | B2: =结果!F4*1.1 -> 2717 | C2: =B2*结果!E4 -> 67.925 | E2: 1 | F2: =结果!D4*0.1 -> 1000 | G2: =F2*结果!E4 -> 25
A3: 51 | B3: =B2+结果!$F$4*0.1 -> 2964 | C3: =(SUM($B$2:B3)+SUM($C$2:C2))*结果!$E$4 -> 143.72313 | E3: 2 | F3: =结果!$F$4 -> 2470 | G3: =(SUM($F$2:F3)+SUM($G$2:G2))*结果!$E$4 -> 87.375
A4: 52 | B4: =B3+结果!$F$4*0.1 -> 3211 | C4: =(SUM($B$2:B4)+SUM($C$2:C3))*结果!$E$4 -> 227.5912 | E4: 3 | F4: =结果!$F$4 -> 2470 | G4: =(SUM($F$2:F4)+SUM($G$2:G3))*结果!$E$4 -> 151.30938
A5: 53 | B5: =B4+结果!$F$4*0.1 -> 3458 | C5: =(SUM($B$2:B5)+SUM($C$2:C4))*结果!$E$4 -> 319.73098 | E5: 4 | F5: =结果!$F$4 -> 2470 | G5: =(SUM($F$2:F5)+SUM($G$2:G4))*结果!$E$4 -> 216.84211
A6: 54 | B6: =B5+结果!$F$4*0.1 -> 3705 | C6: =(SUM($B$2:B6)+SUM($C$2:C5))*结果!$E$4 -> 420.34926 | E6: 5 | F6: =结果!$F$4 -> 2470 | G6: =(SUM($F$2:F6)+SUM($G$2:G5))*结果!$E$4 -> 284.01316
A7: 55 | B7: =B6+结果!$F$4*0.1 -> 3952 | C7: =(SUM($B$2:B7)+SUM($C$2:C6))*结果!$E$4 -> 529.65799 | E7: 6 | F7: =结果!$F$4 -> 2470 | G7: =(SUM($F$2:F7)+SUM($G$2:G6))*结果!$E$4 -> 352.86349
A8: 56 | B8: =B7+结果!$F$4*0.1 -> 4199 | C8: =(SUM($B$2:B8)+SUM($C$2:C7))*结果!$E$4 -> 647.87444 | E8: 7 | F8: =结果!$F$4 -> 2470 | G8: =(SUM($F$2:F8)+SUM($G$2:G7))*结果!$E$4 -> 423.43508
A9: 57 | B9: =B8+结果!$F$4*0.1 -> 4446 | C9: =(SUM($B$2:B9)+SUM($C$2:C8))*结果!$E$4 -> 775.2213 | E9: 8 | F9: =结果!$F$4 -> 2470 | G9: =(SUM($F$2:F9)+SUM($G$2:G8))*结果!$E$4 -> 495.77096
A10: 58 | B10: =B9+结果!$F$4*0.1 -> 4693 | C10: =(SUM($B$2:B10)+SUM($C$2:C9))*结果!$E$4 -> 911.92683 | E10: 9 | F10: =结果!$F$4 -> 2470 | G10: =(SUM($F$2:F10)+SUM($G$2:G9))*结果!$E$4 -> 569.91523
A11: 59 | B11: =B10+结果!$F$4*0.1 -> 4940 | C11: =(SUM($B$2:B11)+SUM($C$2:C10))*结果!$E$4 -> 1058.225 | E11: 10 | F11: =结果!$F$4 -> 2470 | G11: =(SUM($F$2:F11)+SUM($G$2:G10))*结果!$E$4 -> 645.91311
A12: 60 | B12: =B11+结果!$F$4*0.1 -> 5187 | C12: =(SUM($B$2:B12)+SUM($C$2:C11))*结果!$E$4 -> 1214.3556 | E12: 11 | F12: =结果!$F$4 -> 2470 | G12: =(SUM($F$2:F12)+SUM($G$2:G11))*结果!$E$4 -> 723.81094
A13: 61 | B13: =B12+结果!$F$4*0.1 -> 5434 | C13: =(SUM($B$2:B13)+SUM($C$2:C12))*结果!$E$4 -> 1380.5645 | E13: 12 | F13: =结果!$F$4 -> 2470 | G13: =(SUM($F$2:F13)+SUM($G$2:G12))*结果!$E$4 -> 803.65621
A14: 62 | B14: =B13+结果!$F$4*0.1 -> 5681 | C14: =(SUM($B$2:B14)+SUM($C$2:C13))*结果!$E$4 -> 1557.1036 | E14: 13 | F14: =结果!$F$4 -> 2470 | G14: =(SUM($F$2:F14)+SUM($G$2:G13))*结果!$E$4 -> 885.49762
... A31: 79 | B31: =B30+结果!$F$4*0.1 -> 9880 | C31: =(SUM($B$2:B31)+SUM($C$2:C30))*结果!$E$4 -> 6416.0588 | E31: 30 | F31: =结果!$F$4 -> 2470 | G31: =(SUM($F$2:F31)+SUM($G$2:G30))*结果!$E$4 -> 2635.7864
C32: =SUM(C2:C31) -> 74103.411 | E32: 31 | F32: =结果!$F$4 -> 2470 | G32: =(SUM($F$2:F32)+SUM($G$2:G31))*结果!$E$4 -> 2763.4311
E33: 32 | F33: =结果!$F$4 -> 2470 | G33: =(SUM($F$2:F33)+SUM($G$2:G32))*结果!$E$4 -> 2894.2669
E34: 33 | F34: =结果!$F$4 -> 2470 | G34: =(SUM($F$2:F34)+SUM($G$2:G33))*结果!$E$4 -> 3028.3736
E35: 34 | F35: =结果!$F$4 -> 2470 | G35: =(SUM($F$2:F35)+SUM($G$2:G34))*结果!$E$4 -> 3165.8329
E36: 35 | F36: =结果!$F$4 -> 2470 | G36: =(SUM($F$2:F36)+SUM($G$2:G35))*结果!$E$4 -> 3306.7287
E37: 36 | F37: =结果!$F$4 -> 2470 | G37: =(SUM($F$2:F37)+SUM($G$2:G36))*结果!$E$4 -> 3451.1469
E38: 37 | F38: =结果!$F$4 -> 2470 | G38: =(SUM($F$2:F38)+SUM($G$2:G37))*结果!$E$4 -> 3599.1756
E39: 38 | F39: =结果!$F$4 -> 2470 | G39: =(SUM($F$2:F39)+SUM($G$2:G38))*结果!$E$4 -> 3750.905
E40: 39 | F40: =结果!$F$4 -> 2470 | G40: =(SUM($F$2:F40)+SUM($G$2:G39))*结果!$E$4 -> 3906.4276
E41: 40 | F41: =结果!$F$4 -> 2470 | G41: =(SUM($F$2:F41)+SUM($G$2:G40))*结果!$E$4 -> 4065.8383
E42: 41 | F42: =结果!$F$4 -> 2470 | G42: =(SUM($F$2:F42)+SUM($G$2:G41))*结果!$E$4 -> 4229.2343
E43: 42 | F43: =结果!$F$4 -> 2470 | G43: =(SUM($F$2:F43)+SUM($G$2:G42))*结果!$E$4 -> 4396.7151
E44: 43 | F44: =结果!$F$4 -> 2470 | G44: =(SUM($F$2:F44)+SUM($G$2:G43))*结果!$E$4 -> 4568.383
... E51: 50 | F51: =结果!$F$4 -> 2470 | G51: =(SUM($F$2:F51)+SUM($G$2:G50))*结果!$E$4 -> 5896.4256
E54: =50-结果!A4 -> 50 | F54: =E54+1 -> 51 | G54: =SUM(INDIRECT("g1:g"&F54)) -> 119723.45
G55: =(结果!H4+'50岁开始领取-万能账户'!G54)*结果!$E$4 -> 6043.8363
G56: =(结果!$H$4+'50岁开始领取-万能账户'!$G$54+SUM($G$55:G55))*结果!$E$4 -> 6194.9322
G57: =(结果!$H$4+'50岁开始领取-万能账户'!$G$54+SUM($G$55:G56))*结果!$E$4 -> 6349.8055
G58: =(结果!$H$4+'50岁开始领取-万能账户'!$G$54+SUM($G$55:G57))*结果!$E$4 -> 6508.5506
G59: =(结果!$H$4+'50岁开始领取-万能账户'!$G$54+SUM($G$55:G58))*结果!$E$4 -> 6671.2644
G60: =(结果!$H$4+'50岁开始领取-万能账户'!$G$54+SUM($G$55:G59))*结果!$E$4 -> 6838.046
G61: =(结果!$H$4+'50岁开始领取-万能账户'!$G$54+SUM($G$55:G60))*结果!$E$4 -> 7008.9971
G62: =(结果!$H$4+'50岁开始领取-万能账户'!$G$54+SUM($G$55:G61))*结果!$E$4 -> 7184.2221
G63: =(结果!$H$4+'50岁开始领取-万能账户'!$G$54+SUM($G$55:G62))*结果!$E$4 -> 7363.8276
G64: =(结果!$H$4+'50岁开始领取-万能账户'!$G$54+SUM($G$55:G63))*结果!$E$4 -> 7547.9233
G65: =(结果!$H$4+'50岁开始领取-万能账户'!$G$54+SUM($G$55:G64))*结果!$E$4 -> 7736.6214
G66: =(结果!$H$4+'50岁开始领取-万能账户'!$G$54+SUM($G$55:G65))*结果!$E$4 -> 7930.0369
G67: =(结果!$H$4+'50岁开始领取-万能账户'!$G$54+SUM($G$55:G66))*结果!$E$4 -> 8128.2878
... G84: =(结果!$H$4+'50岁开始领取-万能账户'!$G$54+SUM($G$55:G83))*结果!$E$4 -> 12368.151
G85: =SUM(G54:G84) -> 385064.2
G88: =C32+G85 -> 459167.61

Sheet 55岁开始领取
A1: 标识 | B1: 投保年龄 | C1: 性别 | D1: 交费期 | E1: 基本保额
A2: =B2&C2&D2 -> 0男3 | B2: 0 | C2: 男 | D2: 3 | E2: 873
A3: =B3&C3&D3 -> 1男3 | B3: 1 | C3: 男 | D3: 3 | E3: 870
A4: =B4&C4&D4 -> 2男3 | B4: 2 | C4: 男 | D4: 3 | E4: 867
A5: =B5&C5&D5 -> 3男3 | B5: 3 | C5: 男 | D5: 3 | E5: 864
A6: =B6&C6&D6 -> 4男3 | B6: 4 | C6: 男 | D6: 3 | E6: 860
A7: =B7&C7&D7 -> 5男3 | B7: 5 | C7: 男 | D7: 3 | E7: 857
A8: =B8&C8&D8 -> 6男3 | B8: 6 | C8: 男 | D8: 3 | E8: 853
A9: =B9&C9&D9 -> 7男3 | B9: 7 | C9: 男 | D9: 3 | E9: 849
A10: =B10&C10&D10 -> 8男3 | B10: 8 | C10: 男 | D10: 3 | E10: 845
A11: =B11&C11&D11 -> 9男3 | B11: 9 | C11: 男 | D11: 3 | E11: 841
A12: =B12&C12&D12 -> 10男3 | B12: 10 | C12: 男 | D12: 3 | E12: 837
A13: =B13&C13&D13 -> 11男3 | B13: 11 | C13: 男 | D13: 3 | E13: 833
... A271: =B271&C271&D271 -> 44女10 | B271: 44 | C271: 女 | D271: 10 | E271: 1524

Sheet 55岁开始领取-万能账户
A1: 领取年龄 | B1: 年金 | C1: 万能账户收益 | E1: 保单年度 | F1: 生存金 | G1: 万能账户收益
A2: 55 | B2: =结果!F10*1.1 -> 2827 | C2: =B2*结果!E10 -> 70.675 | E2: 1 | F2: =结果!D10*0.1 -> 1000 | G2: =F2*结果!E10 -> 25
A3: 56 | B3: =B2+结果!$F$10*0.1 -> 3084 | C3: =(SUM($B$2:B3)+SUM($C$2:C2))*结果!$E$10 -> 149.54188 | E3: 2 | F3: =结果!$F$10 -> 2570 | G3: =(SUM($F$2:F3)+SUM($G$2:G2))*结果!$E$10 -> 89.875
A4: 57 | B4: =B3+结果!$F$10*0.1 -> 3341 | C4: =(SUM($B$2:B4)+SUM($C$2:C3))*结果!$E$10 -> 236.80542 | E4: 3 | F4: =结果!$F$10 -> 2570 | G4: =(SUM($F$2:F4)+SUM($G$2:G3))*结果!$E$10 -> 156.37188
A5: 58 | B5: =B4+结果!$F$10*0.1 -> 3598 | C5: =(SUM($B$2:B5)+SUM($C$2:C4))*结果!$E$10 -> 332.67556 | E5: 4 | F5: =结果!$F$10 -> 2570 | G5: =(SUM($F$2:F5)+SUM($G$2:G4))*结果!$E$10 -> 224.53117
A6: 59 | B6: =B5+结果!$F$10*0.1 -> 3855 | C6: =(SUM($B$2:B6)+SUM($C$2:C5))*结果!$E$10 -> 437.36745 | E6: 5 | F6: =结果!$F$10 -> 2570 | G6: =(SUM($F$2:F6)+SUM($G$2:G5))*结果!$E$10 -> 294.39445
A7: 60 | B7: =B6+结果!$F$10*0.1 -> 4112 | C7: =(SUM($B$2:B7)+SUM($C$2:C6))*结果!$E$10 -> 551.10163 | E7: 6 | F7: =结果!$F$10 -> 2570 | G7: =(SUM($F$2:F7)+SUM($G$2:G6))*结果!$E$10 -> 366.00431
A8: 61 | B8: =B7+结果!$F$10*0.1 -> 4369 | C8: =(SUM($B$2:B8)+SUM($C$2:C7))*结果!$E$10 -> 674.10417 | E8: 7 | F8: =结果!$F$10 -> 2570 | G8: =(SUM($F$2:F8)+SUM($G$2:G7))*结果!$E$10 -> 439.40442
A9: 62 | B9: =B8+结果!$F$10*0.1 -> 4626 | C9: =(SUM($B$2:B9)+SUM($C$2:C8))*结果!$E$10 -> 806.60678 | E9: 8 | F9: =结果!$F$10 -> 2570 | G9: =(SUM($F$2:F9)+SUM($G$2:G8))*结果!$E$10 -> 514.63953
A10: 63 | B10: =B9+结果!$F$10*0.1 -> 4883 | C10: =(SUM($B$2:B10)+SUM($C$2:C9))*结果!$E$10 -> 948.84695 | E10: 9 | F10: =结果!$F$10 -> 2570 | G10: =(SUM($F$2:F10)+SUM($G$2:G9))*结果!$E$10 -> 591.75552
A11: 64 | B11: =B10+结果!$F$10*0.1 -> 5140 | C11: =(SUM($B$2:B11)+SUM($C$2:C10))*结果!$E$10 -> 1101.0681 | E11: 10 | F11: =结果!$F$10 -> 2570 | G11: =(SUM($F$2:F11)+SUM($G$2:G10))*结果!$E$10 -> 670.79941
A12: 65 | B12: =B11+结果!$F$10*0.1 -> 5397 | C12: =(SUM($B$2:B12)+SUM($C$2:C11))*结果!$E$10 -> 1263.5198 | E12: 11 | F12: =结果!$F$10 -> 2570 | G12: =(SUM($F$2:F12)+SUM($G$2:G11))*结果!$E$10 -> 751.81939
A13: 66 | B13: =B12+结果!$F$10*0.1 -> 5654 | C13: =(SUM($B$2:B13)+SUM($C$2:C12))*结果!$E$10 -> 1436.4578 | E13: 12 | F13: =结果!$F$10 -> 2570 | G13: =(SUM($F$2:F13)+SUM($G$2:G12))*结果!$E$10 -> 834.86488
A14: 67 | B14: =B13+结果!$F$10*0.1 -> 5911 | C14: =(SUM($B$2:B14)+SUM($C$2:C13))*结果!$E$10 -> 1620.1443 | E14: 13 | F14: =结果!$F$10 -> 2570 | G14: =(SUM($F$2:F14)+SUM($G$2:G13))*结果!$E$10 -> 919.9865
... A26: 79 | B26: =B25+结果!$F$10*0.1 -> 8995 | C26: =(SUM($B$2:B26)+SUM($C$2:C25))*结果!$E$10 -> 4767.6453 | E26: 25 | F26: =结果!$F$10 -> 2570 | G26: =(SUM($F$2:F26)+SUM($G$2:G25))*结果!$E$10 -> 2123.6438
C27: =SUM(C2:C26) -> 47698.457 | E27: 26 | F27: =结果!$F$10 -> 2570 | G27: =(SUM($F$2:F27)+SUM($G$2:G26))*结果!$E$10 -> 2240.9849
E28: 27 | F28: =结果!$F$10 -> 2570 | G28: =(SUM($F$2:F28)+SUM($G$2:G27))*结果!$E$10 -> 2361.2596
E29: 28 | F29: =结果!$F$10 -> 2570 | G29: =(SUM($F$2:F29)+SUM($G$2:G28))*结果!$E$10 -> 2484.541
E30: 29 | F30: =结果!$F$10 -> 2570 | G30: =(SUM($F$2:F30)+SUM($G$2:G29))*结果!$E$10 -> 2610.9046
E31: 30 | F31: =结果!$F$10 -> 2570 | G31: =(SUM($F$2:F31)+SUM($G$2:G30))*结果!$E$10 -> 2740.4272
E32: 31 | F32: =结果!$F$10 -> 2570 | G32: =(SUM($F$2:F32)+SUM($G$2:G31))*结果!$E$10 -> 2873.1879
E33: 32 | F33: =结果!$F$10 -> 2570 | G33: =(SUM($F$2:F33)+SUM($G$2:G32))*结果!$E$10 -> 3009.2676
E34: 33 | F34: =结果!$F$10 -> 2570 | G34: =(SUM($F$2:F34)+SUM($G$2:G33))*结果!$E$10 -> 3148.7493
E35: 34 | F35: =结果!$F$10 -> 2570 | G35: =(SUM($F$2:F35)+SUM($G$2:G34))*结果!$E$10 -> 3291.718
E36: 35 | F36: =结果!$F$10 -> 2570 | G36: =(SUM($F$2:F36)+SUM($G$2:G35))*结果!$E$10 -> 3438.2609
E37: 36 | F37: =结果!$F$10 -> 2570 | G37: =(SUM($F$2:F37)+SUM($G$2:G36))*结果!$E$10 -> 3588.4675
E38: 37 | F38: =结果!$F$10 -> 2570 | G38: =(SUM($F$2:F38)+SUM($G$2:G37))*结果!$E$10 -> 3742.4291
E39: 38 | F39: =结果!$F$10 -> 2570 | G39: =(SUM($F$2:F39)+SUM($G$2:G38))*结果!$E$10 -> 3900.2399
... E56: 55 | F56: =结果!$F$10 -> 2570 | G56: =(SUM($F$2:F56)+SUM($G$2:G55))*结果!$E$10 -> 7275.2351
E59: =55-结果!A10 -> 55 | F59: =E59+1 -> 56 | G59: =SUM(INDIRECT("g1:g"&F59)) -> 158504.64
G60: =(结果!H10+'55岁开始领取-万能账户'!G59)*结果!$E$10 -> 7457.116
G61: =(结果!$H$10+'55岁开始领取-万能账户'!$G$59+SUM($G$60:G60))*结果!$E$10 -> 7643.5439
G62: =(结果!$H$10+'55岁开始领取-万能账户'!$G$59+SUM($G$60:G61))*结果!$E$10 -> 7834.6325
G63: =(结果!$H$10+'55岁开始领取-万能账户'!$G$59+SUM($G$60:G62))*结果!$E$10 -> 8030.4983
G64: =(结果!$H$10+'55岁开始领取-万能账户'!$G$59+SUM($G$60:G63))*结果!$E$10 -> 8231.2608
G65: =(结果!$H$10+'55岁开始领取-万能账户'!$G$59+SUM($G$60:G64))*结果!$E$10 -> 8437.0423
G66: =(结果!$H$10+'55岁开始领取-万能账户'!$G$59+SUM($G$60:G65))*结果!$E$10 -> 8647.9684
G67: =(结果!$H$10+'55岁开始领取-万能账户'!$G$59+SUM($G$60:G66))*结果!$E$10 -> 8864.1676
G68: =(结果!$H$10+'55岁开始领取-万能账户'!$G$59+SUM($G$60:G67))*结果!$E$10 -> 9085.7718
G69: =(结果!$H$10+'55岁开始领取-万能账户'!$G$59+SUM($G$60:G68))*结果!$E$10 -> 9312.9161
G70: =(结果!$H$10+'55岁开始领取-万能账户'!$G$59+SUM($G$60:G69))*结果!$E$10 -> 9545.739
G71: =(结果!$H$10+'55岁开始领取-万能账户'!$G$59+SUM($G$60:G70))*结果!$E$10 -> 9784.3824
G72: =(结果!$H$10+'55岁开始领取-万能账户'!$G$59+SUM($G$60:G71))*结果!$E$10 -> 10028.992
... G84: =(结果!$H$10+'55岁开始领取-万能账户'!$G$59+SUM($G$60:G83))*结果!$E$10 -> 13487.879
G85: =SUM(G59:G84) -> 413223.05
G88: =C27+G85 -> 460921.51

Sheet 60岁开始领取
A1: 标识 | B1: 投保年龄 | C1: 性别 | D1: 交费期 | E1: 基本保额
A2: =B2&C2&D2 -> 0男3 | B2: 0 | C2: 男 | D2: 3 | E2: 899
A3: =B3&C3&D3 -> 1男3 | B3: 1 | C3: 男 | D3: 3 | E3: 897
A4: =B4&C4&D4 -> 2男3 | B4: 2 | C4: 男 | D4: 3 | E4: 895
A5: =B5&C5&D5 -> 3男3 | B5: 3 | C5: 男 | D5: 3 | E5: 893
A6: =B6&C6&D6 -> 4男3 | B6: 4 | C6: 男 | D6: 3 | E6: 891
A7: =B7&C7&D7 -> 5男3 | B7: 5 | C7: 男 | D7: 3 | E7: 888
A8: =B8&C8&D8 -> 6男3 | B8: 6 | C8: 男 | D8: 3 | E8: 886
A9: =B9&C9&D9 -> 7男3 | B9: 7 | C9: 男 | D9: 3 | E9: 883
A10: =B10&C10&D10 -> 8男3 | B10: 8 | C10: 男 | D10: 3 | E10: 880
A11: =B11&C11&D11 -> 9男3 | B11: 9 | C11: 男 | D11: 3 | E11: 878
A12: =B12&C12&D12 -> 10男3 | B12: 10 | C12: 男 | D12: 3 | E12: 875
A13: =B13&C13&D13 -> 11男3 | B13: 11 | C13: 男 | D13: 3 | E13: 872
... A301: =B301&C301&D301 -> 49女10 | B301: 49 | C301: 女 | D301: 10 | E301: 1562

Sheet 60岁开始领取-万能账户
A1: 领取年龄 | B1: 年金 | C1: 万能账户收益 | E1: 保单年度 | F1: 生存金 | G1: 万能账户收益
A2: 60 | B2: =结果!F16*1.1 -> 2910.6 | C2: =B2*结果!E16 -> 72.765 | E2: 1 | F2: =结果!D16*0.1 -> 1000 | G2: =F2*结果!E16 -> 25
A3: 61 | B3: =B2+结果!$F$16*0.1 -> 3175.2 | C3: =(SUM($B$2:B3)+SUM($C$2:C2))*结果!$E$16 -> 153.96413 | E3: 2 | F3: =结果!$F$16 -> 2646 | G3: =(SUM($F$2:F3)+SUM($G$2:G2))*结果!$E$16 -> 91.775
A4: 62 | B4: =B3+结果!$F$16*0.1 -> 3439.8 | C4: =(SUM($B$2:B4)+SUM($C$2:C3))*结果!$E$16 -> 243.80823 | E4: 3 | F4: =结果!$F$16 -> 2646 | G4: =(SUM($F$2:F4)+SUM($G$2:G3))*结果!$E$16 -> 160.21938
A5: 63 | B5: =B4+结果!$F$16*0.1 -> 3704.4 | C5: =(SUM($B$2:B5)+SUM($C$2:C4))*结果!$E$16 -> 342.51343 | E5: 4 | F5: =结果!$F$16 -> 2646 | G5: =(SUM($F$2:F5)+SUM($G$2:G4))*结果!$E$16 -> 230.37486
A6: 64 | B6: =B5+结果!$F$16*0.1 -> 3969 | C6: =(SUM($B$2:B6)+SUM($C$2:C5))*结果!$E$16 -> 450.30127 | E6: 5 | F6: =结果!$F$16 -> 2646 | G6: =(SUM($F$2:F6)+SUM($G$2:G5))*结果!$E$16 -> 302.28423
A7: 65 | B7: =B6+结果!$F$16*0.1 -> 4233.6 | C7: =(SUM($B$2:B7)+SUM($C$2:C6))*结果!$E$16 -> 567.3988 | E7: 6 | F7: =结果!$F$16 -> 2646 | G7: =(SUM($F$2:F7)+SUM($G$2:G6))*结果!$E$16 -> 375.99134
A8: 66 | B8: =B7+结果!$F$16*0.1 -> 4498.2 | C8: =(SUM($B$2:B8)+SUM($C$2:C7))*结果!$E$16 -> 694.03877 | E8: 7 | F8: =结果!$F$16 -> 2646 | G8: =(SUM($F$2:F8)+SUM($G$2:G7))*结果!$E$16 -> 451.54112
A9: 67 | B9: =B8+结果!$F$16*0.1 -> 4762.8 | C9: =(SUM($B$2:B9)+SUM($C$2:C8))*结果!$E$16 -> 830.45974 | E9: 8 | F9: =结果!$F$16 -> 2646 | G9: =(SUM($F$2:F9)+SUM($G$2:G8))*结果!$E$16 -> 528.97965
A10: 68 | B10: =B9+结果!$F$16*0.1 -> 5027.4 | C10: =(SUM($B$2:B10)+SUM($C$2:C9))*结果!$E$16 -> 976.90623 | E10: 9 | F10: =结果!$F$16 -> 2646 | G10: =(SUM($F$2:F10)+SUM($G$2:G9))*结果!$E$16 -> 608.35414
A11: 69 | B11: =B10+结果!$F$16*0.1 -> 5292 | C11: =(SUM($B$2:B11)+SUM($C$2:C10))*结果!$E$16 -> 1133.6289 | E11: 10 | F11: =结果!$F$16 -> 2646 | G11: =(SUM($F$2:F11)+SUM($G$2:G10))*结果!$E$16 -> 689.71299
A12: 70 | B12: =B11+结果!$F$16*0.1 -> 5556.6 | C12: =(SUM($B$2:B12)+SUM($C$2:C11))*结果!$E$16 -> 1300.8846 | E12: 11 | F12: =结果!$F$16 -> 2646 | G12: =(SUM($F$2:F12)+SUM($G$2:G11))*结果!$E$16 -> 773.10582
A13: 71 | B13: =B12+结果!$F$16*0.1 -> 5821.2 | C13: =(SUM($B$2:B13)+SUM($C$2:C12))*结果!$E$16 -> 1478.9367 | E13: 12 | F13: =结果!$F$16 -> 2646 | G13: =(SUM($F$2:F13)+SUM($G$2:G12))*结果!$E$16 -> 858.58346
A14: 72 | B14: =B13+结果!$F$16*0.1 -> 6085.8 | C14: =(SUM($B$2:B14)+SUM($C$2:C13))*结果!$E$16 -> 1668.0551 | E14: 13 | F14: =结果!$F$16 -> 2646 | G14: =(SUM($F$2:F14)+SUM($G$2:G13))*结果!$E$16 -> 946.19805
... A21: 79 | B21: =B20+结果!$F$16*0.1 -> 7938 | C21: =(SUM($B$2:B21)+SUM($C$2:C20))*结果!$E$16 -> 3325.8734 | E21: 20 | F21: =结果!$F$16 -> 2646 | G21: =(SUM($F$2:F21)+SUM($G$2:G20))*结果!$E$16 -> 1623.9946
C22: =SUM(C2:C21) -> 27874.81 | E22: 21 | F22: =结果!$F$16 -> 2646 | G22: =(SUM($F$2:F22)+SUM($G$2:G21))*结果!$E$16 -> 1730.7445
E23: 22 | F23: =结果!$F$16 -> 2646 | G23: =(SUM($F$2:F23)+SUM($G$2:G22))*结果!$E$16 -> 1840.1631
E24: 23 | F24: =结果!$F$16 -> 2646 | G24: =(SUM($F$2:F24)+SUM($G$2:G23))*结果!$E$16 -> 1952.3172
E25: 24 | F25: =结果!$F$16 -> 2646 | G25: =(SUM($F$2:F25)+SUM($G$2:G24))*结果!$E$16 -> 2067.2751
E26: 25 | F26: =结果!$F$16 -> 2646 | G26: =(SUM($F$2:F26)+SUM($G$2:G25))*结果!$E$16 -> 2185.107
E27: 26 | F27: =结果!$F$16 -> 2646 | G27: =(SUM($F$2:F27)+SUM($G$2:G26))*结果!$E$16 -> 2305.8847
E28: 27 | F28: =结果!$F$16 -> 2646 | G28: =(SUM($F$2:F28)+SUM($G$2:G27))*结果!$E$16 -> 2429.6818
E29: 28 | F29: =结果!$F$16 -> 2646 | G29: =(SUM($F$2:F29)+SUM($G$2:G28))*结果!$E$16 -> 2556.5738
E30: 29 | F30: =结果!$F$16 -> 2646 | G30: =(SUM($F$2:F30)+SUM($G$2:G29))*结果!$E$16 -> 2686.6382
E31: 30 | F31: =结果!$F$16 -> 2646 | G31: =(SUM($F$2:F31)+SUM($G$2:G30))*结果!$E$16 -> 2819.9541
E32: 31 | F32: =结果!$F$16 -> 2646 | G32: =(SUM($F$2:F32)+SUM($G$2:G31))*结果!$E$16 -> 2956.603
E33: 32 | F33: =结果!$F$16 -> 2646 | G33: =(SUM($F$2:F33)+SUM($G$2:G32))*结果!$E$16 -> 3096.6681
E34: 33 | F34: =结果!$F$16 -> 2646 | G34: =(SUM($F$2:F34)+SUM($G$2:G33))*结果!$E$16 -> 3240.2348
... E61: 60 | F61: =结果!$F$16 -> 2646 | G61: =(SUM($F$2:F61)+SUM($G$2:G60))*结果!$E$16 -> 8819.2082
E64: =60-结果!A16 -> 60 | F64: =E64+1 -> 61 | G64: =SUM(INDIRECT("g1:g"&F64)) -> 204473.54
G65: =(结果!H16+'60岁开始领取-万能账户'!G64)*结果!$E$16 -> 9039.6884
G66: =(结果!$H$16+'60岁开始领取-万能账户'!$G$64+SUM($G$65:G65))*结果!$E$16 -> 9265.6806
G67: =(结果!$H$16+'60岁开始领取-万能账户'!$G$64+SUM($G$65:G66))*结果!$E$16 -> 9497.3226
G68: =(结果!$H$16+'60岁开始领取-万能账户'!$G$64+SUM($G$65:G67))*结果!$E$16 -> 9734.7557
G69: =(结果!$H$16+'60岁开始领取-万能账户'!$G$64+SUM($G$65:G68))*结果!$E$16 -> 9978.1246
G70: =(结果!$H$16+'60岁开始领取-万能账户'!$G$64+SUM($G$65:G69))*结果!$E$16 -> 10227.578
G71: =(结果!$H$16+'60岁开始领取-万能账户'!$G$64+SUM($G$65:G70))*结果!$E$16 -> 10483.267
G72: =(结果!$H$16+'60岁开始领取-万能账户'!$G$64+SUM($G$65:G71))*结果!$E$16 -> 10745.349
G73: =(结果!$H$16+'60岁开始领取-万能账户'!$G$64+SUM($G$65:G72))*结果!$E$16 -> 11013.983
G74: =(结果!$H$16+'60岁开始领取-万能账户'!$G$64+SUM($G$65:G73))*结果!$E$16 -> 11289.332
G75: =(结果!$H$16+'60岁开始领取-万能账户'!$G$64+SUM($G$65:G74))*结果!$E$16 -> 11571.565
G76: =(结果!$H$16+'60岁开始领取-万能账户'!$G$64+SUM($G$65:G75))*结果!$E$16 -> 11860.855
G77: =(结果!$H$16+'60岁开始领取-万能账户'!$G$64+SUM($G$65:G76))*结果!$E$16 -> 12157.376
... G84: =(结果!$H$16+'60岁开始领取-万能账户'!$G$64+SUM($G$65:G83))*结果!$E$16 -> 14451.3
G85: =SUM(G64:G84) -> 435389.28
G88: =C22+G85 -> 463264.09

Sheet 10年后开始领取
A1: 标识 | B1: 投保年龄 | C1: 性别 | D1: 交费期 | E1: 基本保额
A2: =B2&C2&D2 -> 0男3 | B2: 0 | C2: 男 | D2: 3 | E2: 389
A3: =B3&C3&D3 -> 1男3 | B3: 1 | C3: 男 | D3: 3 | E3: 391
A4: =B4&C4&D4 -> 2男3 | B4: 2 | C4: 男 | D4: 3 | E4: 392
A5: =B5&C5&D5 -> 3男3 | B5: 3 | C5: 男 | D5: 3 | E5: 394
A6: =B6&C6&D6 -> 4男3 | B6: 4 | C6: 男 | D6: 3 | E6: 396
A7: =B7&C7&D7 -> 5男3 | B7: 5 | C7: 男 | D7: 3 | E7: 398
A8: =B8&C8&D8 -> 6男3 | B8: 6 | C8: 男 | D8: 3 | E8: 400
A9: =B9&C9&D9 -> 7男3 | B9: 7 | C9: 男 | D9: 3 | E9: 402
A10: =B10&C10&D10 -> 8男3 | B10: 8 | C10: 男 | D10: 3 | E10: 404
A11: =B11&C11&D11 -> 9男3 | B11: 9 | C11: 男 | D11: 3 | E11: 406
A12: =B12&C12&D12 -> 10男3 | B12: 10 | C12: 男 | D12: 3 | E12: 408
A13: =B13&C13&D13 -> 11男3 | B13: 11 | C13: 男 | D13: 3 | E13: 410
... A209: =B209&C209&D209 -> 65男10 | B209: 65 | C209: 男 | D209: 10 | E209: 971
A210: =B210&C210&D210 -> 66男10 | B210: 66 | C210: 男 | D210: 10
A211: =B211&C211&D211 -> 67男10 | B211: 67 | C211: 男 | D211: 10
A212: =B212&C212&D212 -> 68男10 | B212: 68 | C212: 男 | D212: 10
A213: =B213&C213&D213 -> 69男10 | B213: 69 | C213: 男 | D213: 10
A214: =B214&C214&D214 -> 70男10 | B214: 70 | C214: 男 | D214: 10
A215: =B215&C215&D215 -> 0女3 | B215: 0 | C215: 女 | D215: 3 | E215: 387
A216: =B216&C216&D216 -> 1女3 | B216: 1 | C216: 女 | D216: 3 | E216: 389
A217: =B217&C217&D217 -> 2女3 | B217: 2 | C217: 女 | D217: 3 | E217: 390
A218: =B218&C218&D218 -> 3女3 | B218: 3 | C218: 女 | D218: 3 | E218: 392
A219: =B219&C219&D219 -> 4女3 | B219: 4 | C219: 女 | D219: 3 | E219: 394
A220: =B220&C220&D220 -> 5女3 | B220: 5 | C220: 女 | D220: 3 | E220: 395
A221: =B221&C221&D221 -> 6女3 | B221: 6 | C221: 女 | D221: 3 | E221: 397
A222: =B222&C222&D222 -> 7女3 | B222: 7 | C222: 女 | D222: 3 | E222: 399
A223: =B223&C223&D223 -> 8女3 | B223: 8 | C223: 女 | D223: 3 | E223: 401
A224: =B224&C224&D224 -> 9女3 | B224: 9 | C224: 女 | D224: 3 | E224: 403
A225: =B225&C225&D225 -> 10女3 | B225: 10 | C225: 女 | D225: 3 | E225: 405
A226: =B226&C226&D226 -> 11女3 | B226: 11 | C226: 女 | D226: 3 | E226: 407
... A422: =B422&C422&D422 -> 65女10 | B422: 65 | C422: 女 | D422: 10 | E422: 1078
A423: =B423&C423&D423 -> 66女10 | B423: 66 | C423: 女 | D423: 10
A424: =B424&C424&D424 -> 67女10 | B424: 67 | C424: 女 | D424: 10
A425: =B425&C425&D425 -> 68女10 | B425: 68 | C425: 女 | D425: 10
A426: =B426&C426&D426 -> 69女10 | B426: 69 | C426: 女 | D426: 10
A427: =B427&C427&D427 -> 70女10 | B427: 70 | C427: 女 | D427: 10

Sheet 10年后领取-万能账户
A1: 领取次数 | B1: 年金 | C1: 万能账户收益 | E1: 保单年度 | F1: 生存金 | G1: 万能账户收益
A2: 1 | B2: =结果!F22*1.1 -> 1261.7 | C2: =B2*结果!E22 -> 31.5425 | E2: 1 | F2: =结果!D22*0.1 -> 1000 | G2: =F2*结果!E22 -> 25
A3: 2 | B3: =B2+结果!$F$22*0.1 -> 1376.4 | C3: =(SUM($B$2:B3)+SUM($C$2:C2))*结果!$E$22 -> 66.741063 | E3: 2 | F3: =结果!$F$22 -> 1147 | G3: =(SUM($F$2:F3)+SUM($G$2:G2))*结果!$E$22 -> 54.3
A4: 3 | B4: =B3+结果!$F$22*0.1 -> 1491.1 | C4: =(SUM($B$2:B4)+SUM($C$2:C3))*结果!$E$22 -> 105.68709 | E4: 3 | F4: =结果!$F$22 -> 1147 | G4: =(SUM($F$2:F4)+SUM($G$2:G3))*结果!$E$22 -> 84.3325
A5: 4 | B5: =B4+结果!$F$22*0.1 -> 1605.8 | C5: =(SUM($B$2:B5)+SUM($C$2:C4))*结果!$E$22 -> 148.47427 | E5: 4 | F5: =结果!$F$22 -> 1147 | G5: =(SUM($F$2:F5)+SUM($G$2:G4))*结果!$E$22 -> 115.11581
A6: 5 | B6: =B5+结果!$F$22*0.1 -> 1720.5 | C6: =(SUM($B$2:B6)+SUM($C$2:C5))*结果!$E$22 -> 195.19862 | E6: 5 | F6: =结果!$F$22 -> 1147 | G6: =(SUM($F$2:F6)+SUM($G$2:G5))*结果!$E$22 -> 146.66871
A7: 6 | B7: =B6+结果!$F$22*0.1 -> 1835.2 | C7: =(SUM($B$2:B7)+SUM($C$2:C6))*结果!$E$22 -> 245.95859 | E7: 6 | F7: =结果!$F$22 -> 1147 | G7: =(SUM($F$2:F7)+SUM($G$2:G6))*结果!$E$22 -> 179.01043
A8: 7 | B8: =B7+结果!$F$22*0.1 -> 1949.9 | C8: =(SUM($B$2:B8)+SUM($C$2:C7))*结果!$E$22 -> 300.85505 | E8: 7 | F8: =结果!$F$22 -> 1147 | G8: =(SUM($F$2:F8)+SUM($G$2:G7))*结果!$E$22 -> 212.16069
A9: 8 | B9: =B8+结果!$F$22*0.1 -> 2064.6 | C9: =(SUM($B$2:B9)+SUM($C$2:C8))*结果!$E$22 -> 359.99143 | E9: 8 | F9: =结果!$F$22 -> 1147 | G9: =(SUM($F$2:F9)+SUM($G$2:G8))*结果!$E$22 -> 246.1397
A10: 9 | B10: =B9+结果!$F$22*0.1 -> 2179.3 | C10: =(SUM($B$2:B10)+SUM($C$2:C9))*结果!$E$22 -> 423.47372 | E10: 9 | F10: =结果!$F$22 -> 1147 | G10: =(SUM($F$2:F10)+SUM($G$2:G9))*结果!$E$22 -> 280.9682
A11: 10 | B11: =B10+结果!$F$22*0.1 -> 2294 | C11: =(SUM($B$2:B11)+SUM($C$2:C10))*结果!$E$22 -> 491.41056 | E11: 10 | F11: =结果!$F$22 -> 1147 | G11: =(SUM($F$2:F11)+SUM($G$2:G10))*结果!$E$22 -> 316.6674
A12: 11 | B12: =B11+结果!$F$22*0.1 -> 2408.7 | C12: =(SUM($B$2:B12)+SUM($C$2:C11))*结果!$E$22 -> 563.91332 | F12: =SUM(F2:F11) -> 11323 | G12: =SUM(G2:G11) -> 1660.3634
A13: 12 | B13: =B12+结果!$F$22*0.1 -> 2523.4 | C13: =(SUM($B$2:B13)+SUM($C$2:C12))*结果!$E$22 -> 641.09616
A14: 13 | B14: =B13+结果!$F$22*0.1 -> 2638.1 | C14: =(SUM($B$2:B14)+SUM($C$2:C13))*结果!$E$22 -> 723.07606 | F14: 1 | G14: =(F12+G12)*结果!E22 -> 324.58409
A15: 14 | B15: =B14+结果!$F$22*0.1 -> 2752.8 | C15: =(SUM($B$2:B15)+SUM($C$2:C14))*结果!$E$22 -> 809.97296 | F15: 2 | G15: =($F$12+$G$12+SUM($G$14:G14))*结果!$E$22 -> 332.69869
A16: 15 | B16: =B15+结果!$F$22*0.1 -> 2867.5 | C16: =(SUM($B$2:B16)+SUM($C$2:C15))*结果!$E$22 -> 901.90978 | F16: 3 | G16: =($F$12+$G$12+SUM($G$14:G15))*结果!$E$22 -> 341.01616
A17: 16 | B17: =B16+结果!$F$22*0.1 -> 2982.2 | C17: =(SUM($B$2:B17)+SUM($C$2:C16))*结果!$E$22 -> 999.01253 | F17: 4 | G17: =($F$12+$G$12+SUM($G$14:G16))*结果!$E$22 -> 349.54156
A18: 17 | B18: =B17+结果!$F$22*0.1 -> 3096.9 | C18: =(SUM($B$2:B18)+SUM($C$2:C17))*结果!$E$22 -> 1101.4103 | F18: 5 | G18: =($F$12+$G$12+SUM($G$14:G17))*结果!$E$22 -> 358.2801
A19: 18 | B19: =B18+结果!$F$22*0.1 -> 3211.6 | C19: =(SUM($B$2:B19)+SUM($C$2:C18))*结果!$E$22 -> 1209.2356 | F19: 6 | G19: =($F$12+$G$12+SUM($G$14:G18))*结果!$E$22 -> 367.2371
A20: 19 | B20: =B19+结果!$F$22*0.1 -> 3326.3 | C20: =(SUM($B$2:B20)+SUM($C$2:C19))*结果!$E$22 -> 1322.624 | F20: 7 | G20: =($F$12+$G$12+SUM($G$14:G19))*结果!$E$22 -> 376.41803
A21: 20 | B21: =B20+结果!$F$22*0.1 -> 3441 | C21: =(SUM($B$2:B21)+SUM($C$2:C20))*结果!$E$22 -> 1441.7146 | F21: 8 | G21: =($F$12+$G$12+SUM($G$14:G20))*结果!$E$22 -> 385.82848
A22: 21 | B22: =B21+结果!$F$22*0.1 -> 3555.7 | C22: =(SUM($B$2:B22)+SUM($C$2:C21))*结果!$E$22 -> 1566.65 | F22: 9 | G22: =($F$12+$G$12+SUM($G$14:G21))*结果!$E$22 -> 395.47419
A23: 22 | B23: =B22+结果!$F$22*0.1 -> 3670.4 | C23: =(SUM($B$2:B23)+SUM($C$2:C22))*结果!$E$22 -> 1697.5762 | F23: 10 | G23: =($F$12+$G$12+SUM($G$14:G22))*结果!$E$22 -> 405.36105
A24: 23 | B24: =B23+结果!$F$22*0.1 -> 3785.1 | C24: =(SUM($B$2:B24)+SUM($C$2:C23))*结果!$E$22 -> 1834.6431 | F24: 11 | G24: =($F$12+$G$12+SUM($G$14:G23))*结果!$E$22 -> 415.49507
A25: 24 | B25: =B24+结果!$F$22*0.1 -> 3899.8 | C25: =(SUM($B$2:B25)+SUM($C$2:C24))*结果!$E$22 -> 1978.0042 | F25: 12 | G25: =($F$12+$G$12+SUM($G$14:G24))*结果!$E$22 -> 425.88245
A26: 25 | B26: =B25+结果!$F$22*0.1 -> 4014.5 | C26: =(SUM($B$2:B26)+SUM($C$2:C25))*结果!$E$22 -> 2127.8168 | F26: 13 | G26: =($F$12+$G$12+SUM($G$14:G25))*结果!$E$22 -> 436.52951
... A71: 70 | B71: =B70+结果!$F$22*0.1 -> 9176 | C71: =(SUM($B$2:B71)+SUM($C$2:C70))*结果!$E$22 -> 19067.412 | F71: 58 | G71: =($F$12+$G$12+SUM($G$14:G70))*结果!$E$22 -> 1326.1344
F72: 59 | G72: =($F$12+$G$12+SUM($G$14:G71))*结果!$E$22 -> 1359.2878
B73: =80-结果!G22+1 -> 71 | C73: =SUM(INDIRECT("c2:c"&B73)) -> 416444.39 | F73: 60 | G73: =($F$12+$G$12+SUM($G$14:G72))*结果!$E$22 -> 1393.27
F74: 61 | G74: =($F$12+$G$12+SUM($G$14:G73))*结果!$E$22 -> 1428.1017
F75: 62 | G75: =($F$12+$G$12+SUM($G$14:G74))*结果!$E$22 -> 1463.8043
F76: 63 | G76: =($F$12+$G$12+SUM($G$14:G75))*结果!$E$22 -> 1500.3994
F77: 64 | G77: =($F$12+$G$12+SUM($G$14:G76))*结果!$E$22 -> 1537.9094
F78: 65 | G78: =($F$12+$G$12+SUM($G$14:G77))*结果!$E$22 -> 1576.3571
F79: 66 | G79: =($F$12+$G$12+SUM($G$14:G78))*结果!$E$22 -> 1615.766
F80: 67 | G80: =($F$12+$G$12+SUM($G$14:G79))*结果!$E$22 -> 1656.1602
F81: 68 | G81: =($F$12+$G$12+SUM($G$14:G80))*结果!$E$22 -> 1697.5642
F82: 69 | G82: =($F$12+$G$12+SUM($G$14:G81))*结果!$E$22 -> 1740.0033
F83: 70 | G83: =($F$12+$G$12+SUM($G$14:G82))*结果!$E$22 -> 1783.5034
F85: =80-10-结果!A22+13 -> 83 | G85: =SUM(INDIRECT("G12:G"&F85)) -> 61800.638
G88: =C73+G85 -> 478245.03

Sheet 年金过程指标
A1: 领取年龄 | B1: 领取次数 | C1: 系数1 | D1: 系数2
A2: 10 | B2: =80-A2 -> 70 | C2: =SUMPRODUCT(ROW(INDIRECT("1:70"))) -> 2485 | D2: =B2+C2*10% -> 318.5
A3: 11 | B3: =80-A3 -> 69 | C3: =SUMPRODUCT(ROW(INDIRECT("1:69"))) -> 2415 | D3: =B3+C3*10% -> 310.5
A4: 12 | B4: =80-A4 -> 68 | C4: =SUMPRODUCT(ROW(INDIRECT("1:68"))) -> 2346 | D4: =B4+C4*10% -> 302.6
A5: 13 | B5: =80-A5 -> 67 | C5: =SUMPRODUCT(ROW(INDIRECT("1:67"))) -> 2278 | D5: =B5+C5*10% -> 294.8
A6: 14 | B6: =80-A6 -> 66 | C6: =SUMPRODUCT(ROW(INDIRECT("1:66"))) -> 2211 | D6: =B6+C6*10% -> 287.1
A7: 15 | B7: =80-A7 -> 65 | C7: =SUMPRODUCT(ROW(INDIRECT("1:65"))) -> 2145 | D7: =B7+C7*10% -> 279.5
A8: 16 | B8: =80-A8 -> 64 | C8: =SUMPRODUCT(ROW(INDIRECT("1:64"))) -> 2080 | D8: =B8+C8*10% -> 272
A9: 17 | B9: =80-A9 -> 63 | C9: =SUMPRODUCT(ROW(INDIRECT("1:63"))) -> 2016 | D9: =B9+C9*10% -> 264.6
A10: 18 | B10: =80-A10 -> 62 | C10: =SUMPRODUCT(ROW(INDIRECT("1:62"))) -> 1953 | D10: =B10+C10*10% -> 257.3
A11: 19 | B11: =80-A11 -> 61 | C11: =SUMPRODUCT(ROW(INDIRECT("1:61"))) -> 1891 | D11: =B11+C11*10% -> 250.1
A12: 20 | B12: =80-A12 -> 60 | C12: =SUMPRODUCT(ROW(INDIRECT("1:60"))) -> 1830 | D12: =B12+C12*10% -> 243
A13: 21 | B13: =80-A13 -> 59 | C13: =SUMPRODUCT(ROW(INDIRECT("1:59"))) -> 1770 | D13: =B13+C13*10% -> 236
A14: 22 | B14: =80-A14 -> 58 | C14: =SUMPRODUCT(ROW(INDIRECT("1:58"))) -> 1711 | D14: =B14+C14*10% -> 229.1
A15: 23 | B15: =80-A15 -> 57 | C15: =SUMPRODUCT(ROW(INDIRECT("1:57"))) -> 1653 | D15: =B15+C15*10% -> 222.3
A16: 24 | B16: =80-A16 -> 56 | C16: =SUMPRODUCT(ROW(INDIRECT("1:56"))) -> 1596 | D16: =B16+C16*10% -> 215.6
A17: 25 | B17: =80-A17 -> 55 | C17: =SUMPRODUCT(ROW(INDIRECT("1:55"))) -> 1540 | D17: =B17+C17*10% -> 209
A18: 26 | B18: =80-A18 -> 54 | C18: =SUMPRODUCT(ROW(INDIRECT("1:54"))) -> 1485 | D18: =B18+C18*10% -> 202.5
A19: 27 | B19: =80-A19 -> 53 | C19: =SUMPRODUCT(ROW(INDIRECT("1:53"))) -> 1431 | D19: =B19+C19*10% -> 196.1
A20: 28 | B20: =80-A20 -> 52 | C20: =SUMPRODUCT(ROW(INDIRECT("1:52"))) -> 1378 | D20: =B20+C20*10% -> 189.8
A21: 29 | B21: =80-A21 -> 51 | C21: =SUMPRODUCT(ROW(INDIRECT("1:51"))) -> 1326 | D21: =B21+C21*10% -> 183.6
A22: 30 | B22: =80-A22 -> 50 | C22: =SUMPRODUCT(ROW(INDIRECT("1:50"))) -> 1275 | D22: =B22+C22*10% -> 177.5
A23: 31 | B23: =80-A23 -> 49 | C23: =SUMPRODUCT(ROW(INDIRECT("1:49"))) -> 1225 | D23: =B23+C23*10% -> 171.5
A24: 32 | B24: =80-A24 -> 48 | C24: =SUMPRODUCT(ROW(INDIRECT("1:48"))) -> 1176 | D24: =B24+C24*10% -> 165.6
A25: 33 | B25: =80-A25 -> 47 | C25: =SUMPRODUCT(ROW(INDIRECT("1:47"))) -> 1128 | D25: =B25+C25*10% -> 159.8
A26: 34 | B26: =80-A26 -> 46 | C26: =SUMPRODUCT(ROW(INDIRECT("1:46"))) -> 1081 | D26: =B26+C26*10% -> 154.1
A27: 35 | B27: =80-A27 -> 45 | C27: =SUMPRODUCT(ROW(INDIRECT("1:45"))) -> 1035 | D27: =B27+C27*10% -> 148.5
A28: 36 | B28: =80-A28 -> 44 | C28: =SUMPRODUCT(ROW(INDIRECT("1:44"))) -> 990 | D28: =B28+C28*10% -> 143
A29: 37 | B29: =80-A29 -> 43 | C29: =SUMPRODUCT(ROW(INDIRECT("1:43"))) -> 946 | D29: =B29+C29*10% -> 137.6
A30: 38 | B30: =80-A30 -> 42 | C30: =SUMPRODUCT(ROW(INDIRECT("1:42"))) -> 903 | D30: =B30+C30*10% -> 132.3
A31: 39 | B31: =80-A31 -> 41 | C31: =SUMPRODUCT(ROW(INDIRECT("1:41"))) -> 861 | D31: =B31+C31*10% -> 127.1
A32: 40 | B32: =80-A32 -> 40 | C32: =SUMPRODUCT(ROW(INDIRECT("1:40"))) -> 820 | D32: =B32+C32*10% -> 122
A33: 41 | B33: =80-A33 -> 39 | C33: =SUMPRODUCT(ROW(INDIRECT("1:39"))) -> 780 | D33: =B33+C33*10% -> 117
A34: 42 | B34: =80-A34 -> 38 | C34: =SUMPRODUCT(ROW(INDIRECT("1:38"))) -> 741 | D34: =B34+C34*10% -> 112.1
A35: 43 | B35: =80-A35 -> 37 | C35: =SUMPRODUCT(ROW(INDIRECT("1:37"))) -> 703 | D35: =B35+C35*10% -> 107.3
A36: 44 | B36: =80-A36 -> 36 | C36: =SUMPRODUCT(ROW(INDIRECT("1:36"))) -> 666 | D36: =B36+C36*10% -> 102.6
A37: 45 | B37: =80-A37 -> 35 | C37: =SUMPRODUCT(ROW(INDIRECT("1:35"))) -> 630 | D37: =B37+C37*10% -> 98
A38: 46 | B38: =80-A38 -> 34 | C38: =SUMPRODUCT(ROW(INDIRECT("1:34"))) -> 595 | D38: =B38+C38*10% -> 93.5
A39: 47 | B39: =80-A39 -> 33 | C39: =SUMPRODUCT(ROW(INDIRECT("1:33"))) -> 561 | D39: =B39+C39*10% -> 89.1
A40: 48 | B40: =80-A40 -> 32 | C40: =SUMPRODUCT(ROW(INDIRECT("1:32"))) -> 528 | D40: =B40+C40*10% -> 84.8
A41: 49 | B41: =80-A41 -> 31 | C41: =SUMPRODUCT(ROW(INDIRECT("1:31"))) -> 496 | D41: =B41+C41*10% -> 80.6
A42: 50 | B42: =80-A42 -> 30 | C42: =SUMPRODUCT(ROW(INDIRECT("1:30"))) -> 465 | D42: =B42+C42*10% -> 76.5
A43: 51 | B43: =80-A43 -> 29 | C43: =SUMPRODUCT(ROW(INDIRECT("1:29"))) -> 435 | D43: =B43+C43*10% -> 72.5
A44: 52 | B44: =80-A44 -> 28 | C44: =SUMPRODUCT(ROW(INDIRECT("1:28"))) -> 406 | D44: =B44+C44*10% -> 68.6
A45: 53 | B45: =80-A45 -> 27 | C45: =SUMPRODUCT(ROW(INDIRECT("1:27"))) -> 378 | D45: =B45+C45*10% -> 64.8
A46: 54 | B46: =80-A46 -> 26 | C46: =SUMPRODUCT(ROW(INDIRECT("1:26"))) -> 351 | D46: =B46+C46*10% -> 61.1
A47: 55 | B47: =80-A47 -> 25 | C47: =SUMPRODUCT(ROW(INDIRECT("1:25"))) -> 325 | D47: =B47+C47*10% -> 57.5
A48: 56 | B48: =80-A48 -> 24 | C48: =SUMPRODUCT(ROW(INDIRECT("1:24"))) -> 300 | D48: =B48+C48*10% -> 54
A49: 57 | B49: =80-A49 -> 23 | C49: =SUMPRODUCT(ROW(INDIRECT("1:23"))) -> 276 | D49: =B49+C49*10% -> 50.6
A50: 58 | B50: =80-A50 -> 22 | C50: =SUMPRODUCT(ROW(INDIRECT("1:22"))) -> 253 | D50: =B50+C50*10% -> 47.3
A51: 59 | B51: =80-A51 -> 21 | C51: =SUMPRODUCT(ROW(INDIRECT("1:21"))) -> 231 | D51: =B51+C51*10% -> 44.1
A52: 60 | B52: =80-A52 -> 20 | C52: =SUMPRODUCT(ROW(INDIRECT("1:20"))) -> 210 | D52: =B52+C52*10% -> 41
A53: 61 | B53: =80-A53 -> 19 | C53: =SUMPRODUCT(ROW(INDIRECT("1:19"))) -> 190 | D53: =B53+C53*10% -> 38
A54: 62 | B54: =80-A54 -> 18 | C54: =SUMPRODUCT(ROW(INDIRECT("1:18"))) -> 171 | D54: =B54+C54*10% -> 35.1
A55: 63 | B55: =80-A55 -> 17 | C55: =SUMPRODUCT(ROW(INDIRECT("1:17"))) -> 153 | D55: =B55+C55*10% -> 32.3
A56: 64 | B56: =80-A56 -> 16 | C56: =SUMPRODUCT(ROW(INDIRECT("1:16"))) -> 136 | D56: =B56+C56*10% -> 29.6
A57: 65 | B57: =80-A57 -> 15 | C57: =SUMPRODUCT(ROW(INDIRECT("1:15"))) -> 120 | D57: =B57+C57*10% -> 27
A58: 66 | B58: =80-A58 -> 14 | C58: =SUMPRODUCT(ROW(INDIRECT("1:14"))) -> 105 | D58: =B58+C58*10% -> 24.5
A59: 67 | B59: =80-A59 -> 13 | C59: =SUMPRODUCT(ROW(INDIRECT("1:13"))) -> 91 | D59: =B59+C59*10% -> 22.1
A60: 68 | B60: =80-A60 -> 12 | C60: =SUMPRODUCT(ROW(INDIRECT("1:12"))) -> 78 | D60: =B60+C60*10% -> 19.8
A61: 69 | B61: =80-A61 -> 11 | C61: =SUMPRODUCT(ROW(INDIRECT("1:11"))) -> 66 | D61: =B61+C61*10% -> 17.6
A62: 70 | B62: =80-A62 -> 10 | C62: =SUMPRODUCT(ROW(INDIRECT("1:10"))) -> 55 | D62: =B62+C62*10% -> 15.5
A63: 71 | B63: =80-A63 -> 9 | C63: =SUMPRODUCT(ROW(INDIRECT("1:9"))) -> 45 | D63: =B63+C63*10% -> 13.5
A64: 72 | B64: =80-A64 -> 8 | C64: =SUMPRODUCT(ROW(INDIRECT("1:8"))) -> 36 | D64: =B64+C64*10% -> 11.6
A65: 73 | B65: =80-A65 -> 7 | C65: =SUMPRODUCT(ROW(INDIRECT("1:7"))) -> 28 | D65: =B65+C65*10% -> 9.8
A66: 74 | B66: =80-A66 -> 6 | C66: =SUMPRODUCT(ROW(INDIRECT("1:6"))) -> 21 | D66: =B66+C66*10% -> 8.1
A67: 75 | B67: =80-A67 -> 5 | C67: =SUMPRODUCT(ROW(INDIRECT("1:5"))) -> 15 | D67: =B67+C67*10% -> 6.5
